BEGIN:VCALENDAR
VERSION:2.0
PRODID:-//UVAGO - ECPv5.3.1.1//NONSGML v1.0//EN
CALSCALE:GREGORIAN
METHOD:PUBLISH
X-WR-CALNAME:UVAGO
X-ORIGINAL-URL:https://uvago.org
X-WR-CALDESC:Events for UVAGO
BEGIN:VTIMEZONE
TZID:America/Denver
BEGIN:DAYLIGHT
TZOFFSETFROM:-0700
TZOFFSETTO:-0600
TZNAME:MDT
DTSTART:20150308T090000
END:DAYLIGHT
BEGIN:STANDARD
TZOFFSETFROM:-0600
TZOFFSETTO:-0700
TZNAME:MST
DTSTART:20151101T080000
END:STANDARD
END:VTIMEZONE
BEGIN:VEVENT
DTSTART;TZID=America/Denver:20150415T200000
DTEND;TZID=America/Denver:20150415T200000
DTSTAMP:20260423T113217
CREATED:20150403T134033Z
LAST-MODIFIED:20150403T134033Z
UID:3449-1429128000-1429128000@uvago.org
SUMMARY:Anna Judkins organ recital
DESCRIPTION:Anna Judkins\, a senior BYU organ-performance major\, will be playing at the Cathedral of the Madeleine on Wednesday\, April 15 at 8 pm.
URL:https://uvago.org/event/anna-judkins-organ-recital/
LOCATION:Cathedral of the Madeleine\, 331 E. South Temple\, Salt Lake City\, UT\, United States
CATEGORIES:Student Recitals
END:VEVENT
END:VCALENDAR