BEGIN:VCALENDAR
VERSION:2.0
PRODID:-//UVAGO - ECPv5.3.1.1//NONSGML v1.0//EN
CALSCALE:GREGORIAN
METHOD:PUBLISH
X-WR-CALNAME:UVAGO
X-ORIGINAL-URL:https://uvago.org
X-WR-CALDESC:Events for UVAGO
BEGIN:VTIMEZONE
TZID:America/Denver
BEGIN:DAYLIGHT
TZOFFSETFROM:-0700
TZOFFSETTO:-0600
TZNAME:MDT
DTSTART:20240310T090000
END:DAYLIGHT
BEGIN:STANDARD
TZOFFSETFROM:-0600
TZOFFSETTO:-0700
TZNAME:MST
DTSTART:20241103T080000
END:STANDARD
END:VTIMEZONE
BEGIN:VEVENT
DTSTART;TZID=America/Denver:20240315T190000
DTEND;TZID=America/Denver:20240315T203000
DTSTAMP:20260419T203634
CREATED:20231106T012647Z
LAST-MODIFIED:20240224T060226Z
UID:6939-1710529200-1710534600@uvago.org
SUMMARY:Bach & Baroque Recital
DESCRIPTION:If you would like to play in the Bach & Baroque Recital on Friday\, March 15 at 7:00 pm at the Provo Central Stake Center\, please sign up by clicking the link below or by emailing Dorothy Jensen at  jensdorothy@gmail.com. Include your name\, the composer’s name\, the title of the piece\, and the BWV number if you are playing a piece by J. S. Bach. Please sign up to play by March 1st. \nPlay in the Bach & Baroque Recital \n 
URL:https://uvago.org/event/bach-baroque-recital-2/
LOCATION:Provo Central Stake Center\, 450 North 1220 West\, Provo\, UT\, United States
CATEGORIES:Chapter Activities
ATTACH;FMTTYPE=image/png:https://uvago.org/wordpress/wp-content/uploads/2023/11/2024-03-15-bach-recital.png
END:VEVENT
END:VCALENDAR