BEGIN:VCALENDAR
VERSION:2.0
PRODID:-//UVAGO - ECPv5.3.1.1//NONSGML v1.0//EN
CALSCALE:GREGORIAN
METHOD:PUBLISH
X-WR-CALNAME:UVAGO
X-ORIGINAL-URL:https://uvago.org
X-WR-CALDESC:Events for UVAGO
BEGIN:VTIMEZONE
TZID:America/Denver
BEGIN:DAYLIGHT
TZOFFSETFROM:-0700
TZOFFSETTO:-0600
TZNAME:MDT
DTSTART:20190310T090000
END:DAYLIGHT
BEGIN:STANDARD
TZOFFSETFROM:-0600
TZOFFSETTO:-0700
TZNAME:MST
DTSTART:20191103T080000
END:STANDARD
END:VTIMEZONE
BEGIN:VEVENT
DTSTART;TZID=America/Denver:20190322T190000
DTEND;TZID=America/Denver:20190322T203000
DTSTAMP:20260422T161942
CREATED:20180920T222547Z
LAST-MODIFIED:20190205T055732Z
UID:4980-1553281200-1553286600@uvago.org
SUMMARY:Bach Birthday Recital in honor of Carol Dean
DESCRIPTION:March 22\, 2019 \n7-9 pm \nProvo Central Stake Center\n450 North 1220 West\nProvo\, UT \nThe chapter’s Bach recital is a long-standing\, annual tradition. The Provo Central\nStake Center houses the magnificent Bigelow Opus 16 tracker pipe organ\, built\nand installed in 1987 by Bigelow & Co. Organ Builders of American Fork\, Utah. This\nyear we will honor Carol Dean\, who passed away June 5\, 2018.\nWe encourage you to invite and bring guests who may enjoy an evening of the\nmusic of J. S. Bach. \nIf you would like to perform on the recital\, please contact Miranda Wilcox at\nmirandawilcox96@gmail.com to reserve your piece and a performance spot on the\nprogram.
URL:https://uvago.org/event/bach-birthday-recital-in-honor-of-carol-dean/
LOCATION:Provo Central Stake Center\, 450 North 1220 West\, Provo\, UT\, United States
CATEGORIES:Chapter Activities
ATTACH;FMTTYPE=image/jpeg:https://uvago.org/wordpress/wp-content/uploads/2017/09/Provo-Central-Stake-Organ.jpg
END:VEVENT
END:VCALENDAR