BEGIN:VCALENDAR
VERSION:2.0
PRODID:-//UVAGO - ECPv5.3.1.1//NONSGML v1.0//EN
CALSCALE:GREGORIAN
METHOD:PUBLISH
X-WR-CALNAME:UVAGO
X-ORIGINAL-URL:https://uvago.org
X-WR-CALDESC:Events for UVAGO
BEGIN:VTIMEZONE
TZID:America/Denver
BEGIN:DAYLIGHT
TZOFFSETFROM:-0700
TZOFFSETTO:-0600
TZNAME:MDT
DTSTART:20180311T090000
END:DAYLIGHT
BEGIN:STANDARD
TZOFFSETFROM:-0600
TZOFFSETTO:-0700
TZNAME:MST
DTSTART:20181104T080000
END:STANDARD
END:VTIMEZONE
BEGIN:VEVENT
DTSTART;TZID=America/Denver:20180323T190000
DTEND;TZID=America/Denver:20180323T210000
DTSTAMP:20260422T163858
CREATED:20180106T024820Z
LAST-MODIFIED:20180301T221739Z
UID:4808-1521831600-1521838800@uvago.org
SUMMARY:Annual Bach Recital
DESCRIPTION:Join the UVAGO Chapter for the annual member recital celebrating Bach’s birthday on Friday\, March 23 at the Provo Central Stake Center (450 N 1200 W) at 7:00pm
URL:https://uvago.org/event/bach-recital-3/
LOCATION:Provo Central Stake Center\, 450 North 1220 West\, Provo\, UT\, United States
CATEGORIES:Chapter Activities
ATTACH;FMTTYPE=image/jpeg:https://uvago.org/wordpress/wp-content/uploads/2018/01/2018-03-01-Bigelow-organ.jpg
END:VEVENT
END:VCALENDAR