BEGIN:VCALENDAR
VERSION:2.0
PRODID:-//UVAGO - ECPv5.3.1.1//NONSGML v1.0//EN
CALSCALE:GREGORIAN
METHOD:PUBLISH
X-WR-CALNAME:UVAGO
X-ORIGINAL-URL:https://uvago.org
X-WR-CALDESC:Events for UVAGO
BEGIN:VTIMEZONE
TZID:America/Denver
BEGIN:DAYLIGHT
TZOFFSETFROM:-0700
TZOFFSETTO:-0600
TZNAME:MDT
DTSTART:20230312T090000
END:DAYLIGHT
BEGIN:STANDARD
TZOFFSETFROM:-0600
TZOFFSETTO:-0700
TZNAME:MST
DTSTART:20231105T080000
END:STANDARD
END:VTIMEZONE
BEGIN:VEVENT
DTSTART;TZID=America/Denver:20230105T190000
DTEND;TZID=America/Denver:20230105T203000
DTSTAMP:20260420T012347
CREATED:20230103T043400Z
LAST-MODIFIED:20230103T043400Z
UID:6603-1672945200-1672950600@uvago.org
SUMMARY:BYU Organ Online Training Sessions
DESCRIPTION:The BYU Organ Online Training Sessions for Entry-level Organists have been scheduled for the coming season. These webinars are free of charge and available to pianists and organists in any location! \nThe presentations will offer a pre-recorded video from 7:00-8:00 pm Mountain Time\, with interactive chat with the instructor during the video\, followed by a live Question & Answer session until 8:30 pm Mountain Time. Recordings of each class will be available to view for one month following the live presentation. \nAdditional sessions for Beyond the Basics topics and Individual Feedback will be scheduled soon. We hope to see you at many\, if not all training sessions! \nSolo and Accompaniment Registration\nInstructor: Dr. Neil Harmon\nJanuary 5\, 2023\n7:00-8:30 pm MT \n  \nThis session will explore various types of solo stops and combinations\, along with ways to create balanced accompaniment combinations.\n\n\n\n\n\n\n\n\n\n\n\n\n\n\nRegister for BYU Online Training Session
URL:https://uvago.org/event/byu-organ-online-training-sessions-2/
CATEGORIES:Community Events & Recitals
ATTACH;FMTTYPE=image/jpeg:https://uvago.org/wordpress/wp-content/uploads/2023/01/2023-BYU-Organ-training.jpg
END:VEVENT
END:VCALENDAR