BEGIN:VCALENDAR
VERSION:2.0
PRODID:-//UVAGO - ECPv5.3.1.1//NONSGML v1.0//EN
CALSCALE:GREGORIAN
METHOD:PUBLISH
X-WR-CALNAME:UVAGO
X-ORIGINAL-URL:https://uvago.org
X-WR-CALDESC:Events for UVAGO
BEGIN:VTIMEZONE
TZID:America/Denver
BEGIN:DAYLIGHT
TZOFFSETFROM:-0700
TZOFFSETTO:-0600
TZNAME:MDT
DTSTART:20220313T090000
END:DAYLIGHT
BEGIN:STANDARD
TZOFFSETFROM:-0600
TZOFFSETTO:-0700
TZNAME:MST
DTSTART:20221106T080000
END:STANDARD
END:VTIMEZONE
BEGIN:VEVENT
DTSTART;TZID=America/Denver:20220611T080000
DTEND;TZID=America/Denver:20220611T133000
DTSTAMP:20260420T012912
CREATED:20220502T071029Z
LAST-MODIFIED:20220502T071216Z
UID:6499-1654934400-1654954200@uvago.org
SUMMARY:BYU Organ Study Workshop Training 2022
DESCRIPTION:Provo Area Organ Workshop Training\nHosted by the Provo Bonneville Utah Stake\n1498 E. 800 S.\nProvo\, UT  84606\nSaturday\, June 11\n8 AM to 1:20 PM \nLight breakfast & lunch provided \nContact: Jennifer Dunkley\, local coordinator \nClick here to download the flyer \nREGISTER ONLINE TO ATTEND SATURDAY TRAINING: https://organ.byu.edu/workshops/provo/  \n3 tracks available: \n\nYOUTH – Experience the Organ!\nHOW TO – How to be confident at the organ with the basics\nBEYOND THE BASICS – More advanced trainingWORKSHOP INSTRUCTORS:\nDon Cook\nMark Campbell\nSheri Peterson\nValerie McDougal
URL:https://uvago.org/event/byu-organ-study-workshop-training-2022/
LOCATION:Provo Bonneville Utah Stake Center\, 1498 E. 800 S.\, Provo\, UT\, 84606\, United States
CATEGORIES:Community Events & Recitals
END:VEVENT
END:VCALENDAR