BEGIN:VCALENDAR
VERSION:2.0
PRODID:-//UVAGO - ECPv5.3.1.1//NONSGML v1.0//EN
CALSCALE:GREGORIAN
METHOD:PUBLISH
X-WR-CALNAME:UVAGO
X-ORIGINAL-URL:https://uvago.org
X-WR-CALDESC:Events for UVAGO
BEGIN:VTIMEZONE
TZID:America/Denver
BEGIN:DAYLIGHT
TZOFFSETFROM:-0700
TZOFFSETTO:-0600
TZNAME:MDT
DTSTART:20230312T090000
END:DAYLIGHT
BEGIN:STANDARD
TZOFFSETFROM:-0600
TZOFFSETTO:-0700
TZNAME:MST
DTSTART:20231105T080000
END:STANDARD
END:VTIMEZONE
BEGIN:VEVENT
DTSTART;TZID=America/Denver:20230807T080000
DTEND;TZID=America/Denver:20230811T170000
DTSTAMP:20260420T011313
CREATED:20230807T095526Z
LAST-MODIFIED:20230807T095526Z
UID:6877-1691395200-1691773200@uvago.org
SUMMARY:BYU Organ Workshop 2023
DESCRIPTION:BYU Organ Workshop 2023\nThe BYU Organ Workshop will be held at the new BYU Music Building on August 7-11\, 2023. Click here for more information and to register.
URL:https://uvago.org/event/byu-organ-workshop-2023/
LOCATION:BYU Music Building
CATEGORIES:Chapter Activities
END:VEVENT
END:VCALENDAR