BEGIN:VCALENDAR
VERSION:2.0
PRODID:-//UVAGO - ECPv5.3.1.1//NONSGML v1.0//EN
CALSCALE:GREGORIAN
METHOD:PUBLISH
X-WR-CALNAME:UVAGO
X-ORIGINAL-URL:https://uvago.org
X-WR-CALDESC:Events for UVAGO
BEGIN:VTIMEZONE
TZID:America/Denver
BEGIN:DAYLIGHT
TZOFFSETFROM:-0700
TZOFFSETTO:-0600
TZNAME:MDT
DTSTART:20180311T090000
END:DAYLIGHT
BEGIN:STANDARD
TZOFFSETFROM:-0600
TZOFFSETTO:-0700
TZNAME:MST
DTSTART:20181104T080000
END:STANDARD
END:VTIMEZONE
BEGIN:VEVENT
DTSTART;TZID=America/Denver:20180807T080000
DTEND;TZID=America/Denver:20180809T200000
DTSTAMP:20260422T164032
CREATED:20180804T223202Z
LAST-MODIFIED:20180804T223556Z
UID:4903-1533628800-1533844800@uvago.org
SUMMARY:BYU Organ Workshop
DESCRIPTION:UVAGO members are invited to the following workshop events at the Harris Fine Arts Center next week. \n\nTues\, Aug 7\, Keynote Address by Brian Matthias\, 9-10 am\nTues\, Aug 7\, Instructors’ Recital\, 7:30 pm\nThurs\, Aug 9\, Hymn Sing\, 7:30 pm\n\nTues\, Wed\, Thurs\, Sheet Music Sales & Displays\, 11:50-1:30 \nOrgan First!\n\nOur very first organ class for youngsters ages 8-12 \nDetails \n\nTaught on the BYU campus by BYU faculty and staff\n12 weeks of classes for a total of 24 sessions\nClass is held every Tuesday and Thursday from 5:00-6:00pm between September 11 to December 11 except during Thanksgiving week (Nov 19-23) and Fall Break (Oct 18)\nChildren will learn to read music and play the organ even the pedals!\nField trips included!\nOnly twelve students may enroll. Classes are held in the BYU Organ Lab (E354 HFAC)\nWe will provide all books\, materials\, and loaner organ shoes.\n\nRequirements \n\nChildren must be at least 8 years old before the program begins and be able to read at or above grade level. Students must be no older than 6th grade during the 2018-2019 school year.\n90% or better attendance is required.\nChildren will be asked to practice on the piano for two 30-minute sessions outside of class each week\, supervised by a parent.\nDesigned for beginning students with less than 1 year of music training.\nMandatory orientation meeting for students and parents held Thursday\, September 6 at 5:00pm in the BYU Organ Lab.\nTuition: $151 per semester\, plus a $59 materials fee.\nFirst come\, first served. A non-refundable payment of $59 will hold your place in class\, with the remaining $151 due BEFORE the first day of class.\nContact Nora Hess\, nora.hess@gmail.com\, if you have questions.\n\nTo enroll\, make checks payable to “BYU School of Music” with a note in the memo section that says “Children’s Organ Class.” Please include your child’s name and age\, along with your name\, an email address and phone number. Send checks to: Organ Assistant\, BYU School of Music\, C250 HFAC\, Provo\, UT 84602
URL:https://uvago.org/event/byu-organ-workshop-5/
LOCATION:BYU Harris Fine Arts Center\, Madsen Recital Hall\, Provo\, UT
CATEGORIES:Community Events & Recitals
ATTACH;FMTTYPE=image/jpeg:https://uvago.org/wordpress/wp-content/uploads/2018/08/2018-BYU-Organ-Workshop.jpg
END:VEVENT
END:VCALENDAR