BEGIN:VCALENDAR
VERSION:2.0
PRODID:-//UVAGO - ECPv5.3.1.1//NONSGML v1.0//EN
CALSCALE:GREGORIAN
METHOD:PUBLISH
X-WR-CALNAME:UVAGO
X-ORIGINAL-URL:https://uvago.org
X-WR-CALDESC:Events for UVAGO
BEGIN:VTIMEZONE
TZID:America/Denver
BEGIN:DAYLIGHT
TZOFFSETFROM:-0700
TZOFFSETTO:-0600
TZNAME:MDT
DTSTART:20160313T090000
END:DAYLIGHT
BEGIN:STANDARD
TZOFFSETFROM:-0600
TZOFFSETTO:-0700
TZNAME:MST
DTSTART:20161106T080000
END:STANDARD
END:VTIMEZONE
BEGIN:VEVENT
DTSTART;TZID=America/Denver:20160801T150000
DTEND;TZID=America/Denver:20160801T180000
DTSTAMP:20260423T010236
CREATED:20160709T202738Z
LAST-MODIFIED:20160709T202821Z
UID:4131-1470063600-1470074400@uvago.org
SUMMARY:BYU Organ Workshop - Pre-Workshop Seminar
DESCRIPTION:The general public is invited to a free lecture by Dr. Brian Mathias: THE HISTORY OF THE ORGAN CHORALE. The lecture will be presented on Monday\, August 1\, from 3-6 p.m.\, in the Madsen Recital Hall of the Harris Fine Arts Center\, BYU. \nThroughout the history of the organ\, hymn tunes have inspired composers and provided a rich repository of melody for them to draw from. One of the most notable bodies of work in this repertoire is the large corpus of chorale-based works from Lutheran Germany. From Buxtehude and Bach to Brahms and beyond\, Lutheran chorales have provided the foundation for some of the most magnificent organ works ever written. Come explore this repertoire as we trace the development of chorale-based organ music from the early years of the Reformation to the present.
URL:https://uvago.org/event/byu-organ-workshop-pre-workshop-seminar/
LOCATION:Madsen Recital Hall\, Brigham Young University\, Provo\, UT\, United States
CATEGORIES:Community Events & Recitals
ATTACH;FMTTYPE=image/jpeg:https://uvago.org/wordpress/wp-content/uploads/2015/08/Brian-Mathias.jpg
END:VEVENT
END:VCALENDAR