BEGIN:VCALENDAR
VERSION:2.0
PRODID:-//UVAGO - ECPv5.3.1.1//NONSGML v1.0//EN
CALSCALE:GREGORIAN
METHOD:PUBLISH
X-WR-CALNAME:UVAGO
X-ORIGINAL-URL:https://uvago.org
X-WR-CALDESC:Events for UVAGO
BEGIN:VTIMEZONE
TZID:America/Denver
BEGIN:DAYLIGHT
TZOFFSETFROM:-0700
TZOFFSETTO:-0600
TZNAME:MDT
DTSTART:20140309T090000
END:DAYLIGHT
BEGIN:STANDARD
TZOFFSETFROM:-0600
TZOFFSETTO:-0700
TZNAME:MST
DTSTART:20141102T080000
END:STANDARD
END:VTIMEZONE
BEGIN:VEVENT
DTSTART;VALUE=DATE:20140805
DTEND;VALUE=DATE:20140809
DTSTAMP:20260423T124153
CREATED:20140716T221613Z
LAST-MODIFIED:20140716T221613Z
UID:122-1407196800-1407542399@uvago.org
SUMMARY:BYU Organ Workshop 2014
DESCRIPTION:Whether you use your organ skills to play for your own enjoyment\, for church service\, or for teaching\, here’s an organ-specific workshop to help you develop or enhance your playing skills. \nPast participants have said\, “I can do it!”; “It changed my life”; and “I can still learn!” Conquer your fears\, take action on your dreams\, and gain confidence to play “the king of instruments.” \n  \n  \nHighlights:  \n\nOrgan recital featuring students of the late Douglas E. Bush\nHymn-sing by members of Utah Valley AGO\nOpen console night at Temple Square\nFull array of classes for beginning to advanced students\n\nRegistration closes July 28\, but walk-ons are welcome.
URL:https://uvago.org/event/byu-organ-workshop/
LOCATION:Brigham Young University\, Provo\, UT\, United States
END:VEVENT
END:VCALENDAR