BEGIN:VCALENDAR
VERSION:2.0
PRODID:-//UVAGO - ECPv5.3.1.1//NONSGML v1.0//EN
CALSCALE:GREGORIAN
METHOD:PUBLISH
X-WR-CALNAME:UVAGO
X-ORIGINAL-URL:https://uvago.org
X-WR-CALDESC:Events for UVAGO
BEGIN:VTIMEZONE
TZID:America/Denver
BEGIN:DAYLIGHT
TZOFFSETFROM:-0700
TZOFFSETTO:-0600
TZNAME:MDT
DTSTART:20160313T090000
END:DAYLIGHT
BEGIN:STANDARD
TZOFFSETFROM:-0600
TZOFFSETTO:-0700
TZNAME:MST
DTSTART:20161106T080000
END:STANDARD
END:VTIMEZONE
BEGIN:VEVENT
DTSTART;TZID=America/Denver:20161211T183000
DTEND;TZID=America/Denver:20161211T210000
DTSTAMP:20260422T225757
CREATED:20161207T042149Z
LAST-MODIFIED:20161207T042359Z
UID:4387-1481481000-1481490000@uvago.org
SUMMARY:Carols by Candlelight
DESCRIPTION:Provo Community Congregational United Church of Christ presents the 38th annual Carols by Candlelight\, featuring the Provo Interfaith Choir\, Molly in the Mineshaft\, Mark Pulham and his Puppets\, with organists Alex Oldroyd and Sheri Peterson. The concert is free. A free-will offering may be made at the concert. A carol-in will begin at 6:40 pm.
URL:https://uvago.org/event/carols-by-candlelight-2/
CATEGORIES:Community Events & Recitals
ATTACH;FMTTYPE=image/jpeg:https://uvago.org/wordpress/wp-content/uploads/2016/12/838d5e0b-29ed-49bb-8465-d54492d1e737.jpg
END:VEVENT
END:VCALENDAR