BEGIN:VCALENDAR
VERSION:2.0
PRODID:-//UVAGO - ECPv5.3.1.1//NONSGML v1.0//EN
CALSCALE:GREGORIAN
METHOD:PUBLISH
X-WR-CALNAME:UVAGO
X-ORIGINAL-URL:https://uvago.org
X-WR-CALDESC:Events for UVAGO
BEGIN:VTIMEZONE
TZID:America/Denver
BEGIN:DAYLIGHT
TZOFFSETFROM:-0700
TZOFFSETTO:-0600
TZNAME:MDT
DTSTART:20150308T090000
END:DAYLIGHT
BEGIN:STANDARD
TZOFFSETFROM:-0600
TZOFFSETTO:-0700
TZNAME:MST
DTSTART:20151101T080000
END:STANDARD
END:VTIMEZONE
BEGIN:VEVENT
DTSTART;TZID=America/Denver:20150320T190000
DTEND;TZID=America/Denver:20150320T190000
DTSTAMP:20260423T093207
CREATED:20141005T111202Z
LAST-MODIFIED:20150305T032506Z
UID:2300-1426878000-1426878000@uvago.org
SUMMARY:Chapter Bach Recital - Please join us!
DESCRIPTION:Chapter Bach Recital\, Provo Central Stake Center\, 7:00 pm \nCarol Dean is looking for shorter pieces for the Bach recital. If you would like to perform on Friday\, March 20 at the Provo Central Stake\, please let Carol Dean at carolorg1111@gmail.com know which piece you would like to play as soon as possible. Our recital joins celebrations across the globe for World Organ Day. \n 
URL:https://uvago.org/event/chapter-bach-recital/
LOCATION:Provo Central Stake\, 450 North 1220 West\, Provo\, UT\, United States
CATEGORIES:Chapter Activities
ATTACH;FMTTYPE=image/jpeg:https://uvago.org/wordpress/wp-content/uploads/2014/09/performers1.jpg
END:VEVENT
END:VCALENDAR