BEGIN:VCALENDAR
VERSION:2.0
PRODID:-//UVAGO - ECPv5.3.1.1//NONSGML v1.0//EN
CALSCALE:GREGORIAN
METHOD:PUBLISH
X-WR-CALNAME:UVAGO
X-ORIGINAL-URL:https://uvago.org
X-WR-CALDESC:Events for UVAGO
BEGIN:VTIMEZONE
TZID:America/Denver
BEGIN:DAYLIGHT
TZOFFSETFROM:-0700
TZOFFSETTO:-0600
TZNAME:MDT
DTSTART:20170312T090000
END:DAYLIGHT
BEGIN:STANDARD
TZOFFSETFROM:-0600
TZOFFSETTO:-0700
TZNAME:MST
DTSTART:20171105T080000
END:STANDARD
END:VTIMEZONE
BEGIN:VEVENT
DTSTART;TZID=America/Denver:20170519T180000
DTEND;TZID=America/Denver:20170519T210000
DTSTAMP:20260422T223740
CREATED:20170405T013545Z
LAST-MODIFIED:20170405T020339Z
UID:4521-1495216800-1495227600@uvago.org
SUMMARY:Chapter Closing Social
DESCRIPTION:Friday\, May 19\, 6:00 PM at Paul and Linda Duncombe’s home\, 1125 East 740 South\, Pleasant Grove. \nPlease join us for a potluck dinner closing social. The chapter will provide meat and drinks. Please bring a side dish or dessert. \nAfter dinner\, Joan Stevens will do a multi-media presentation on her organ studies in Europe and experiences at the Jerusalem Center. \nMap to Paul & Linda Duncombe’s House \nDriving instructions: \n1) Take Pleasant Grove Blvd off-ramp (exit # 275) At the stop make a turn towards the mountains. Go about a 1/4 mile to first street which is 700 North-Lindon (There is a Central Bank building on the corner) \n2) Turn right on 700 North-Lindon and proceed a few miles to State Street. \n3) Cross State Street – 700 North becomes 1000 South – go to the top of the street which ends on Locust. \n4) Turn left on Locust. Go a short distance to 900 South. \n5) Turn right on 900 South and continue up the hill a mile or so to the stop sign which ends at 1150 East. \n6) Turn left on 1150 East and go a short distance to the next street which is 830 South. \n7) Turn left on 830 South. Street curves– go to 740 South. \n8) Turn right on 740 South\, a cul-de-sac. \n9) House is second house on the left side of the street.
URL:https://uvago.org/event/chapter-closing-social/
LOCATION:Paul & Linda Duncombe’s home\, 1125 E. 740 S.\, Pleasant Grove\, UT\, United States
CATEGORIES:Chapter Activities
END:VEVENT
END:VCALENDAR