BEGIN:VCALENDAR
VERSION:2.0
PRODID:-//UVAGO - ECPv5.3.1.1//NONSGML v1.0//EN
CALSCALE:GREGORIAN
METHOD:PUBLISH
X-WR-CALNAME:UVAGO
X-ORIGINAL-URL:https://uvago.org
X-WR-CALDESC:Events for UVAGO
BEGIN:VTIMEZONE
TZID:America/Denver
BEGIN:DAYLIGHT
TZOFFSETFROM:-0700
TZOFFSETTO:-0600
TZNAME:MDT
DTSTART:20220313T090000
END:DAYLIGHT
BEGIN:STANDARD
TZOFFSETFROM:-0600
TZOFFSETTO:-0700
TZNAME:MST
DTSTART:20221106T080000
END:STANDARD
END:VTIMEZONE
BEGIN:VEVENT
DTSTART;TZID=America/Denver:20220520T190000
DTEND;TZID=America/Denver:20220520T200000
DTSTAMP:20260419T165210
CREATED:20220331T061641Z
LAST-MODIFIED:20220331T061641Z
UID:6474-1653073200-1653076800@uvago.org
SUMMARY:Chapter Informal Recital
DESCRIPTION:Our final activity of the season will be a chapter informal at the Spanish Fork Stake Center on Friday\, May 20 at 7:00 pm. We thank Jack Stoneman for hosting the event. Please bring a piece or two to share with chapter. You can download the organ stop list for the refurbished and expanded Wicks Op. 5193 below. We look forward to a fun evening of making music with friends. \nStop List
URL:https://uvago.org/event/chapter-informal-recital/
LOCATION:Spanish Fork Stake Center\, 1006 East 200 South\, Spanish Fork\, UT
CATEGORIES:Chapter Activities
ATTACH;FMTTYPE=image/png:https://uvago.org/wordpress/wp-content/uploads/2022/03/2022-05-Spring-Informal-May-2022.png
END:VEVENT
END:VCALENDAR