BEGIN:VCALENDAR
VERSION:2.0
PRODID:-//UVAGO - ECPv5.3.1.1//NONSGML v1.0//EN
CALSCALE:GREGORIAN
METHOD:PUBLISH
X-WR-CALNAME:UVAGO
X-ORIGINAL-URL:https://uvago.org
X-WR-CALDESC:Events for UVAGO
BEGIN:VTIMEZONE
TZID:America/Denver
BEGIN:DAYLIGHT
TZOFFSETFROM:-0700
TZOFFSETTO:-0600
TZNAME:MDT
DTSTART:20230312T090000
END:DAYLIGHT
BEGIN:STANDARD
TZOFFSETFROM:-0600
TZOFFSETTO:-0700
TZNAME:MST
DTSTART:20231105T080000
END:STANDARD
END:VTIMEZONE
BEGIN:VEVENT
DTSTART;TZID=America/Denver:20231013T190000
DTEND;TZID=America/Denver:20231013T200000
DTSTAMP:20260420T005105
CREATED:20230902T020223Z
LAST-MODIFIED:20231009T093257Z
UID:6909-1697223600-1697227200@uvago.org
SUMMARY:Chapter Informal (CANCELLED)
DESCRIPTION:On Friday\, October 13th the guild will host an UVAGO Informal at the Latter-day Saint Chapel at 3050 N. Mojave Lane in Provo. This will begin at 7:00 p.m. and refreshments will be served afterwards. \nThis is an opportunity for you to play a piece you have been working on\, and is not a recital. Your piece does not have to be polished or even finished. We just want to hear you play and give you the chance to get your fingers on a pipe organ. There is usually no practice time scheduled for the Informal\, which is part of what makes it an Informal. However\, Marcine Sawyer has reserved the building at 5:00 p.m. so if anyone would like to play through their piece ahead of time\, you can contact her and she’ll meet you there. You can text her at 801-854-8032. \nPlease take advantage of this opportunity to make music together. \n  \n 
URL:https://uvago.org/event/chapter-informal/
LOCATION:Provo LDS Chapel\, 3050 N. Mojave Lane\, Provo\, Utah
CATEGORIES:Chapter Activities
ATTACH;FMTTYPE=image/png:https://uvago.org/wordpress/wp-content/uploads/2023/09/2023-10-13-Chapter-Informal.png
END:VEVENT
END:VCALENDAR