BEGIN:VCALENDAR
VERSION:2.0
PRODID:-//UVAGO - ECPv5.3.1.1//NONSGML v1.0//EN
CALSCALE:GREGORIAN
METHOD:PUBLISH
X-WR-CALNAME:UVAGO
X-ORIGINAL-URL:https://uvago.org
X-WR-CALDESC:Events for UVAGO
BEGIN:VTIMEZONE
TZID:America/Denver
BEGIN:DAYLIGHT
TZOFFSETFROM:-0700
TZOFFSETTO:-0600
TZNAME:MDT
DTSTART:20150308T090000
END:DAYLIGHT
BEGIN:STANDARD
TZOFFSETFROM:-0600
TZOFFSETTO:-0700
TZNAME:MST
DTSTART:20151101T080000
END:STANDARD
END:VTIMEZONE
BEGIN:VEVENT
DTSTART;TZID=America/Denver:20150912T090000
DTEND;TZID=America/Denver:20150912T120000
DTSTAMP:20260423T071241
CREATED:20150730T034144Z
LAST-MODIFIED:20150828T044111Z
UID:3543-1442048400-1442059200@uvago.org
SUMMARY:Chapter Opening Social
DESCRIPTION:Saturday\, September 12\, 9 am – noon \nProvo Stake Center at 1315 E 900 S \nJim Kasen will tell us about the Wick’s organ refurbishment in the Provo Stake Center. Attendees will have an opportunity to play the organ\, and there will be a potluck brunch.
URL:https://uvago.org/event/chapter-opening-social/
LOCATION:Provo Stake Center\, 1315 E 900 S\, Provo\, UT\, United States
CATEGORIES:Chapter Activities
ATTACH;FMTTYPE=image/jpeg:https://uvago.org/wordpress/wp-content/uploads/2015/07/Provo-Stake-Wicks-organ-cropped.jpg
END:VEVENT
END:VCALENDAR