BEGIN:VCALENDAR
VERSION:2.0
PRODID:-//UVAGO - ECPv5.3.1.1//NONSGML v1.0//EN
CALSCALE:GREGORIAN
METHOD:PUBLISH
X-WR-CALNAME:UVAGO
X-ORIGINAL-URL:https://uvago.org
X-WR-CALDESC:Events for UVAGO
BEGIN:VTIMEZONE
TZID:America/Denver
BEGIN:DAYLIGHT
TZOFFSETFROM:-0700
TZOFFSETTO:-0600
TZNAME:MDT
DTSTART:20140309T090000
END:DAYLIGHT
BEGIN:STANDARD
TZOFFSETFROM:-0600
TZOFFSETTO:-0700
TZNAME:MST
DTSTART:20141102T080000
END:STANDARD
END:VTIMEZONE
BEGIN:VEVENT
DTSTART;TZID=America/Denver:20141017T193000
DTEND;TZID=America/Denver:20141017T233000
DTSTAMP:20260423T105337
CREATED:20140717T012928Z
LAST-MODIFIED:20141018T053200Z
UID:50-1413574200-1413588600@uvago.org
SUMMARY:Chapter Recital: In Tribute to Douglas E. Bush
DESCRIPTION:The chapter will hold a member recital on Friday\, October 17\, 2014\, to honor our friend and colleague\, Dr. Douglas E. Bush\, who passed away on October 4\, 2013. Doug had a significant and lasting influence in the lives of many of our chapter members. We wish to honor him and celebrate his life and music. The recital will be held at 7:30 p.m. in the Oak Hills Stake Center\, 925 E. North Temple Drive\, in Provo. \nPlease download and share this flyer. \n 
URL:https://uvago.org/event/chapter-recital-in-tribute-to-douglas-e-bush/
LOCATION:Oak Hills Stake Center\, 925 E. North Temple Drive\, Provo\, Utah
CATEGORIES:Chapter Activities
ATTACH;FMTTYPE=image/jpeg:https://uvago.org/wordpress/wp-content/uploads/2014/07/doug-bush.jpg
ORGANIZER;CN="Mike%20Carson":MAILTO:mcarson@uvago.org
END:VEVENT
END:VCALENDAR