BEGIN:VCALENDAR
VERSION:2.0
PRODID:-//UVAGO - ECPv5.3.1.1//NONSGML v1.0//EN
CALSCALE:GREGORIAN
METHOD:PUBLISH
X-WR-CALNAME:UVAGO
X-ORIGINAL-URL:https://uvago.org
X-WR-CALDESC:Events for UVAGO
BEGIN:VTIMEZONE
TZID:America/Denver
BEGIN:DAYLIGHT
TZOFFSETFROM:-0700
TZOFFSETTO:-0600
TZNAME:MDT
DTSTART:20160313T090000
END:DAYLIGHT
BEGIN:STANDARD
TZOFFSETFROM:-0600
TZOFFSETTO:-0700
TZNAME:MST
DTSTART:20161106T080000
END:STANDARD
END:VTIMEZONE
BEGIN:VEVENT
DTSTART;TZID=America/Denver:20161022T090000
DTEND;TZID=America/Denver:20161022T110000
DTSTAMP:20260423T030916
CREATED:20160907T045144Z
LAST-MODIFIED:20161018T160903Z
UID:4222-1477126800-1477134000@uvago.org
SUMMARY:Choral Conducting Workshop with Dr. Craig Jessop
DESCRIPTION:Dr. Craig Jessop \nDr. Craig Jessop\, dean of the Caine College of Fine Arts at Utah State University and former music director of the Mormon Tabernacle Choir\, will give a special clinic on choral conducting at St. Paul’s Episcopal Church in Salt Lake City. Following the clinic\, everyone can observe Dr. Jessop’s rehearsal of Bernstein’s “Chichester Psalms” with the Utah ACDA Collegiate Choir from 1:00 to 5:30 in the Dumke Recital Hall at the University of Utah. At 5:30 the group moves to rehearse with the organ in Libby Gardner Hall. The concert begins at 7:00 p.m. Tickets are required for the concert. \nThose attending the morning workshop will have the opportunity to learn from Dr. Jessop as he directs the group through four works: \n\nRedeemer of Israel (Mack Wilberg)\nJoy in the Morning (Natalie Sleeth)\nHe Shall Feed His Flock (John Ness Beck)\nJesu\, Joy of Man’s Desiring (ed. Ron Staheli)\n\nDay Murray Music will have packets of the music available for sale for $7.25\, which includes a 15% discount off the published prices.
URL:https://uvago.org/event/choral-conducting-workshop-with-dr-craig-jessop/
LOCATION:St. Paul’s Episcopal Church\, 261 S 900 E\, Salt Lake City\, Utah
END:VEVENT
END:VCALENDAR