BEGIN:VCALENDAR
VERSION:2.0
PRODID:-//UVAGO - ECPv5.3.1.1//NONSGML v1.0//EN
CALSCALE:GREGORIAN
METHOD:PUBLISH
X-WR-CALNAME:UVAGO
X-ORIGINAL-URL:https://uvago.org
X-WR-CALDESC:Events for UVAGO
BEGIN:VTIMEZONE
TZID:America/Denver
BEGIN:DAYLIGHT
TZOFFSETFROM:-0700
TZOFFSETTO:-0600
TZNAME:MDT
DTSTART:20230312T090000
END:DAYLIGHT
BEGIN:STANDARD
TZOFFSETFROM:-0600
TZOFFSETTO:-0700
TZNAME:MST
DTSTART:20231105T080000
END:STANDARD
END:VTIMEZONE
BEGIN:VEVENT
DTSTART;TZID=America/Denver:20231214T180000
DTEND;TZID=America/Denver:20231214T190000
DTSTAMP:20260419T205546
CREATED:20231110T234806Z
LAST-MODIFIED:20231113T022159Z
UID:6983-1702576800-1702580400@uvago.org
SUMMARY:Christmas Concert by James Welch
DESCRIPTION:December 14\, 2023\, 6:00 p.m.\, Thursday\nChristmas Concert\nUtah State Hospital Chapel\n1300 E. Center Street\nProvo\, Utah\nFree \n 
URL:https://uvago.org/event/christmas-concert-by-james-welch-2/
LOCATION:Utah State Hospital\, East Center Street\, Provo\, UT
CATEGORIES:Community Events & Recitals
END:VEVENT
END:VCALENDAR