BEGIN:VCALENDAR
VERSION:2.0
PRODID:-//UVAGO - ECPv5.3.1.1//NONSGML v1.0//EN
CALSCALE:GREGORIAN
METHOD:PUBLISH
X-WR-CALNAME:UVAGO
X-ORIGINAL-URL:https://uvago.org
X-WR-CALDESC:Events for UVAGO
BEGIN:VTIMEZONE
TZID:America/Denver
BEGIN:DAYLIGHT
TZOFFSETFROM:-0700
TZOFFSETTO:-0600
TZNAME:MDT
DTSTART:20160313T090000
END:DAYLIGHT
BEGIN:STANDARD
TZOFFSETFROM:-0600
TZOFFSETTO:-0700
TZNAME:MST
DTSTART:20161106T080000
END:STANDARD
END:VTIMEZONE
BEGIN:VEVENT
DTSTART;TZID=America/Denver:20161221T193000
DTEND;TZID=America/Denver:20161221T200000
DTSTAMP:20260422T231213
CREATED:20161207T035012Z
LAST-MODIFIED:20161207T035012Z
UID:4378-1482348600-1482350400@uvago.org
SUMMARY:Christmas Concert
DESCRIPTION:Christmas Concert. Kathleen Stitt\, organ\, with oboe\, accordion\, mandolin\, cello\, children’s choir\, vocal ensembles\, and soloists. 7:30 PM\, 3700 North 300 West\, Provo\, UT.
URL:https://uvago.org/event/christmas-concert/
LOCATION:3700 N. 300 W.\, Provo\, UT 
CATEGORIES:Community Events & Recitals
END:VEVENT
END:VCALENDAR