BEGIN:VCALENDAR
VERSION:2.0
PRODID:-//UVAGO - ECPv5.3.1.1//NONSGML v1.0//EN
CALSCALE:GREGORIAN
METHOD:PUBLISH
X-WR-CALNAME:UVAGO
X-ORIGINAL-URL:https://uvago.org
X-WR-CALDESC:Events for UVAGO
BEGIN:VTIMEZONE
TZID:America/Denver
BEGIN:DAYLIGHT
TZOFFSETFROM:-0700
TZOFFSETTO:-0600
TZNAME:MDT
DTSTART:20170312T090000
END:DAYLIGHT
BEGIN:STANDARD
TZOFFSETFROM:-0600
TZOFFSETTO:-0700
TZNAME:MST
DTSTART:20171105T080000
END:STANDARD
END:VTIMEZONE
BEGIN:VEVENT
DTSTART;TZID=America/Denver:20170212T200000
DTEND;TZID=America/Denver:20170212T210000
DTSTAMP:20260422T203422
CREATED:20170207T044444Z
LAST-MODIFIED:20170207T044444Z
UID:4435-1486929600-1486933200@uvago.org
SUMMARY:Christopher Young recital
DESCRIPTION:Feb 12 – Christopher Young\, Professor\, Jacobs School of Music\, Indiana University. 8:00 PM\, Cathedral of the Madeleine\, 331 East South Temple\, SLC. Information.
URL:https://uvago.org/event/christopher-young-recital/
LOCATION:Cathedral of the Madeleine\, 331 E. South Temple\, Salt Lake City\, UT\, United States
CATEGORIES:Community Events & Recitals
ATTACH;FMTTYPE=image/jpeg:https://uvago.org/wordpress/wp-content/uploads/2017/02/2017-02-12-Christopher-Young.jpg
END:VEVENT
END:VCALENDAR