BEGIN:VCALENDAR
VERSION:2.0
PRODID:-//UVAGO - ECPv5.3.1.1//NONSGML v1.0//EN
CALSCALE:GREGORIAN
METHOD:PUBLISH
X-WR-CALNAME:UVAGO
X-ORIGINAL-URL:https://uvago.org
X-WR-CALDESC:Events for UVAGO
BEGIN:VTIMEZONE
TZID:America/Denver
BEGIN:DAYLIGHT
TZOFFSETFROM:-0700
TZOFFSETTO:-0600
TZNAME:MDT
DTSTART:20150308T090000
END:DAYLIGHT
BEGIN:STANDARD
TZOFFSETFROM:-0600
TZOFFSETTO:-0700
TZNAME:MST
DTSTART:20151101T080000
END:STANDARD
END:VTIMEZONE
BEGIN:VEVENT
DTSTART;TZID=America/Denver:20151122T210000
DTEND;TZID=America/Denver:20151122T230000
DTSTAMP:20260423T030531
CREATED:20151117T231945Z
LAST-MODIFIED:20151118T001236Z
UID:3884-1448226000-1448233200@uvago.org
SUMMARY:Classical 89 Organ Fest
DESCRIPTION:From Richard Elliott– \nKBYU-FM will be broadcasting this year’s Classical 89 Organ Fest\, which took place at the Cathedral of the Madeleine on Friday\, October 23rd.  The concert\, which featured all five members of the Tabernacle organ staff as well as Gabriele Terrone\, the Cathedral organist and assistant director of music\, will air on Sunday\, November 22nd at 9:00 p.m. on KBYU-FM (89.1).
URL:https://uvago.org/event/classical-89-organ-fest/
LOCATION:KBYU-FM\, Provo\, UT\, United States
CATEGORIES:Community Events & Recitals
ATTACH;FMTTYPE=image/png:https://uvago.org/wordpress/wp-content/uploads/2015/11/classical-90.png
END:VEVENT
END:VCALENDAR