BEGIN:VCALENDAR
VERSION:2.0
PRODID:-//UVAGO - ECPv5.3.1.1//NONSGML v1.0//EN
CALSCALE:GREGORIAN
METHOD:PUBLISH
X-WR-CALNAME:UVAGO
X-ORIGINAL-URL:https://uvago.org
X-WR-CALDESC:Events for UVAGO
BEGIN:VTIMEZONE
TZID:America/Denver
BEGIN:DAYLIGHT
TZOFFSETFROM:-0700
TZOFFSETTO:-0600
TZNAME:MDT
DTSTART:20140309T090000
END:DAYLIGHT
BEGIN:STANDARD
TZOFFSETFROM:-0600
TZOFFSETTO:-0700
TZNAME:MST
DTSTART:20141102T080000
END:STANDARD
END:VTIMEZONE
BEGIN:VEVENT
DTSTART;TZID=America/Denver:20140822T200000
DTEND;TZID=America/Denver:20140822T200000
DTSTAMP:20260423T105218
CREATED:20140716T222234Z
LAST-MODIFIED:20140823T014136Z
UID:123-1408737600-1408737600@uvago.org
SUMMARY:Classical 89’s Organ Fest VII
DESCRIPTION:Classical 89 is pleased to present “Organ Fest VII” at The Cathedral of the Madeleine. The concert\, now in its seventh year\, features organists from the Salt Lake Tabernacle – Richard Elliott\, Clay Christiansen\, AndrewUnsworth\, Bonnie Goodliffe\, and Linda Margetts and the newly appointed organist at The Cathedral of the Madeleine\, GabrieleTerrone. They will present a program in honor of a recently departed colleague\, organist Douglas E. Bush. The concert is free.
URL:https://uvago.org/event/classical-89s-organ-fest-vii/
LOCATION:The Cathedral of the Madeleine\, 331 E South Temple\, Salt Lake City\, UT\, United States
ORGANIZER;CN="Christine%20Nokleby":MAILTO:christine.nokleby@byu.edu
END:VEVENT
END:VCALENDAR