BEGIN:VCALENDAR
VERSION:2.0
PRODID:-//UVAGO - ECPv5.3.1.1//NONSGML v1.0//EN
CALSCALE:GREGORIAN
METHOD:PUBLISH
X-WR-CALNAME:UVAGO
X-ORIGINAL-URL:https://uvago.org
X-WR-CALDESC:Events for UVAGO
BEGIN:VTIMEZONE
TZID:America/Denver
BEGIN:DAYLIGHT
TZOFFSETFROM:-0700
TZOFFSETTO:-0600
TZNAME:MDT
DTSTART:20160313T090000
END:DAYLIGHT
BEGIN:STANDARD
TZOFFSETFROM:-0600
TZOFFSETTO:-0700
TZNAME:MST
DTSTART:20161106T080000
END:STANDARD
END:VTIMEZONE
BEGIN:VEVENT
DTSTART;TZID=America/Denver:20160603T183000
DTEND;TZID=America/Denver:20160603T210000
DTSTAMP:20260423T042352
CREATED:20150828T041419Z
LAST-MODIFIED:20160523T190053Z
UID:3719-1464978600-1464987600@uvago.org
SUMMARY:Closing Social - "Franks and Franck"
DESCRIPTION:Date & Time: June 3rd\, 6:30 PM \nPlace: Paul & Linda Duncombe’s home: 1125 E. 740 S. Pleasant Grove.\nMap to Paul & Linda Duncombe’s House \nTheme/Activity: “Franks and Franck” We will have a BBQ and then view the documentary “Franck: Father of the organ symphony” \nThe guild will provide a variety of bratwurst and franks\, buns\, condiments\, and drinks.  We invite those attending to bring a salad or dessert to share. \nRSVP: To help us prepare please send an RSVP to : paulduncombe@hotmail.com \nDirections from I-15 Freeway:  \n1) Take Pleasant Grove Blvd off ramp (exit # 275).  At the stop make a turn towards the mountains. Go about a 1/4 mile to first street which is 700 North in Lindon.  (There is a Central Bank building on the corner) \n2) Turn right on 700 North—Lindon\, and proceed a few miles to State Street. \n3) Cross State Street (700 North becomes 1\,000 South).  Go to the top of the street which ends on Locust. \n4) Turn left on Locust. Go a short distance to 900 South. \n5) Turn right on 900 South and continue up the hill a mile or so to the stop sign which ends at 1150 East. \n6) Turn left on 1150 East\, and go a short distance to the next street which is 830 South. \n7) Turn left on 830 South.  Street curves–go to 740 South. \n8) Turn right on 740 South -a cul-de-sac. \n9) House is second house on the left side of the street.  (1125 E 740 S)
URL:https://uvago.org/event/closing-social/
LOCATION:Paul & Linda Duncombe’s home\, 1125 E. 740 S.\, Pleasant Grove\, UT\, United States
CATEGORIES:Chapter Activities
ATTACH;FMTTYPE=image/jpeg:https://uvago.org/wordpress/wp-content/uploads/2015/08/franck.jpg
END:VEVENT
END:VCALENDAR