BEGIN:VCALENDAR
VERSION:2.0
PRODID:-//UVAGO - ECPv5.3.1.1//NONSGML v1.0//EN
CALSCALE:GREGORIAN
METHOD:PUBLISH
X-WR-CALNAME:UVAGO
X-ORIGINAL-URL:https://uvago.org
X-WR-CALDESC:Events for UVAGO
BEGIN:VTIMEZONE
TZID:America/Denver
BEGIN:DAYLIGHT
TZOFFSETFROM:-0700
TZOFFSETTO:-0600
TZNAME:MDT
DTSTART:20210314T090000
END:DAYLIGHT
BEGIN:STANDARD
TZOFFSETFROM:-0600
TZOFFSETTO:-0700
TZNAME:MST
DTSTART:20211107T080000
END:STANDARD
END:VTIMEZONE
BEGIN:VEVENT
DTSTART;TZID=America/Denver:20210514T193000
DTEND;TZID=America/Denver:20210514T210000
DTSTAMP:20260419T070134
CREATED:20210502T034100Z
LAST-MODIFIED:20210502T034100Z
UID:6153-1621020600-1621026000@uvago.org
SUMMARY:Concert at Oak Hills Stake Center - James Welch with Brigham Child and Hannah Gouff
DESCRIPTION:On Friday\, May 14\, at 7:30\, James Welch will present a concert on the Schantz organ at the Oak Hills Stake Center\, 925 E. North Temple Drive\, Provo. The program will include works by French\, German\, American\, Canadian\, and Portuguese composers. Of special interest will be the “Toccata parisienne\,” composed by Rulon Christiansen for Welch’s recital at Notre Dame Cathedral in 2015. \nJoining Dr. Welch on the program will be two young artists from Oak Hills 5th Ward: pianist Brigham Child\, who will play the Prestissimo from Beethoven’s Sonata No. 1 in F minor; and violinist Hannah Gouff\, who will perform “Adoration” by Borowski. View the complete program HERE. \nJames Welch studied at BYU and received his doctorate in organ from Stanford University. Before moving to Provo\, he served as bishop of the Stanford YSA Ward. He and his wife Deanne have a mission call to the BYU Jerusalem Center and plan to leave for Israel when conditions permit. More information at: www.welchorganist.com.
URL:https://uvago.org/event/concert-at-oak-hills-stake-center-james-welch-with-brigham-child-and-hannah-gouff/
LOCATION:Oak Hills Stake Center\, 925 E. North Temple Drive\, Provo\, Utah
CATEGORIES:Community Events & Recitals
ATTACH;FMTTYPE=image/jpeg:https://uvago.org/wordpress/wp-content/uploads/2021/05/2021-05-14-James-Welch-recital-scaled.jpg
END:VEVENT
END:VCALENDAR