BEGIN:VCALENDAR
VERSION:2.0
PRODID:-//UVAGO - ECPv5.3.1.1//NONSGML v1.0//EN
CALSCALE:GREGORIAN
METHOD:PUBLISH
X-WR-CALNAME:UVAGO
X-ORIGINAL-URL:https://uvago.org
X-WR-CALDESC:Events for UVAGO
BEGIN:VTIMEZONE
TZID:America/Denver
BEGIN:DAYLIGHT
TZOFFSETFROM:-0700
TZOFFSETTO:-0600
TZNAME:MDT
DTSTART:20180311T090000
END:DAYLIGHT
BEGIN:STANDARD
TZOFFSETFROM:-0600
TZOFFSETTO:-0700
TZNAME:MST
DTSTART:20181104T080000
END:STANDARD
END:VTIMEZONE
BEGIN:VEVENT
DTSTART;TZID=America/Denver:20180311T200000
DTEND;TZID=America/Denver:20180311T210000
DTSTAMP:20260422T143401
CREATED:20170916T090405Z
LAST-MODIFIED:20170916T090405Z
UID:4699-1520798400-1520802000@uvago.org
SUMMARY:Crista Miller\, Eccles Recital
DESCRIPTION:Crista Miller\, Eccles Recital\nMarch 11\, 2018\nCathedral of the Madeleine at 8 pm \nCrista Miller is the Director of Music and Cathedral Organist at Houston’s Co-Cathedral of the Sacred Heart where she chaired the Organ Committee for Martin Pasi’s Opus 19 pipe organ.  She oversees the Celebrity Organ Series and the First Friday University of Houston Series and leads a growing Cathedral music organization with the Schola Cantorum in high demand for large-scale\, festive liturgies\, including those prepared for the National Catholic Education Association\, the National Winter Conference of the University of St. Thomas’ St. Basil’s School of Gregorian Chant\, Church Music Association of America\, various Archdiocesan offices\, and for Archbishop Joseph A. Fiorenza’s ceremonial receipt of the Pallium from Pope Benedict XVI in Rome in 2005. \nClick here for more information. \n 
URL:https://uvago.org/event/crista-miller-eccles-recital/
LOCATION:Cathedral of the Madeleine\, 331 E. South Temple\, Salt Lake City\, UT\, United States
CATEGORIES:Community Events & Recitals
ATTACH;FMTTYPE=image/jpeg:https://uvago.org/wordpress/wp-content/uploads/2017/09/Crista-Miller.jpg
END:VEVENT
END:VCALENDAR