BEGIN:VCALENDAR
VERSION:2.0
PRODID:-//UVAGO - ECPv5.3.1.1//NONSGML v1.0//EN
CALSCALE:GREGORIAN
METHOD:PUBLISH
X-WR-CALNAME:UVAGO
X-ORIGINAL-URL:https://uvago.org
X-WR-CALDESC:Events for UVAGO
BEGIN:VTIMEZONE
TZID:America/Denver
BEGIN:DAYLIGHT
TZOFFSETFROM:-0700
TZOFFSETTO:-0600
TZNAME:MDT
DTSTART:20170312T090000
END:DAYLIGHT
BEGIN:STANDARD
TZOFFSETFROM:-0600
TZOFFSETTO:-0700
TZNAME:MST
DTSTART:20171105T080000
END:STANDARD
END:VTIMEZONE
BEGIN:VEVENT
DTSTART;TZID=America/Denver:20170429T110500
DTEND;TZID=America/Denver:20170429T115000
DTSTAMP:20260422T225304
CREATED:20170406T041328Z
LAST-MODIFIED:20170406T041926Z
UID:4534-1493463900-1493466600@uvago.org
SUMMARY:Dallin Baldwin Organ Recital (part of Super Saturday)
DESCRIPTION:April 29\, 2017\nMadsen Recital Hall\n11:05 a.m. to 11:50 a.m.
URL:https://uvago.org/event/dallin-baldwin-organ-recital-part-of-super-saturday/
LOCATION:Madsen Recital Hall\, Brigham Young University\, Provo\, UT\, United States
CATEGORIES:Community Events & Recitals
ATTACH;FMTTYPE=image/jpeg:https://uvago.org/wordpress/wp-content/uploads/2017/04/dallin-baldwin.jpg
END:VEVENT
END:VCALENDAR