BEGIN:VCALENDAR
VERSION:2.0
PRODID:-//UVAGO - ECPv5.3.1.1//NONSGML v1.0//EN
CALSCALE:GREGORIAN
METHOD:PUBLISH
X-WR-CALNAME:UVAGO
X-ORIGINAL-URL:https://uvago.org
X-WR-CALDESC:Events for UVAGO
BEGIN:VTIMEZONE
TZID:America/Denver
BEGIN:DAYLIGHT
TZOFFSETFROM:-0700
TZOFFSETTO:-0600
TZNAME:MDT
DTSTART:20160313T090000
END:DAYLIGHT
BEGIN:STANDARD
TZOFFSETFROM:-0600
TZOFFSETTO:-0700
TZNAME:MST
DTSTART:20161106T080000
END:STANDARD
END:VTIMEZONE
BEGIN:VEVENT
DTSTART;TZID=America/Denver:20160316T193000
DTEND;TZID=America/Denver:20160316T210000
DTSTAMP:20260423T050900
CREATED:20160314T011022Z
LAST-MODIFIED:20160314T011022Z
UID:3958-1458156600-1458162000@uvago.org
SUMMARY:Dallin Baldwin student recital
DESCRIPTION:Dallin Baldwin (student of Brian Mathias)\, March 16\, 7:30 PM\, de Jong Concert Hall\, BYU
URL:https://uvago.org/event/dallin-baldwin-student-recital/
LOCATION:DeJong Concert Hall\, HFAC\, BYU\, Provo\, UT
CATEGORIES:Student Recitals
END:VEVENT
END:VCALENDAR