BEGIN:VCALENDAR
VERSION:2.0
PRODID:-//UVAGO - ECPv5.3.1.1//NONSGML v1.0//EN
CALSCALE:GREGORIAN
METHOD:PUBLISH
X-WR-CALNAME:UVAGO
X-ORIGINAL-URL:https://uvago.org
X-WR-CALDESC:Events for UVAGO
BEGIN:VTIMEZONE
TZID:America/Denver
BEGIN:DAYLIGHT
TZOFFSETFROM:-0700
TZOFFSETTO:-0600
TZNAME:MDT
DTSTART:20170312T090000
END:DAYLIGHT
BEGIN:STANDARD
TZOFFSETFROM:-0600
TZOFFSETTO:-0700
TZNAME:MST
DTSTART:20171105T080000
END:STANDARD
END:VTIMEZONE
BEGIN:VEVENT
DTSTART;TZID=America/Denver:20171112T200000
DTEND;TZID=America/Denver:20171112T210000
DTSTAMP:20260422T184431
CREATED:20170916T084330Z
LAST-MODIFIED:20170916T084420Z
UID:4689-1510516800-1510520400@uvago.org
SUMMARY:David Baskeyfield\, Eccles Recital
DESCRIPTION:David Baskeyfield\, Eccles Recital\nNovember 12\, 2017\nCathedral of the Madeleine at 8pmDavid Baskeyfield is an English concert organist and church musician living in Rochester\, New York. He has earned a reputation for creative programming\, showcasing an astonishing facility tempered by intelligent interpretation\, authoritative command of registration and informed above all by sheer\, expressive musicality. \n\n\nClick here for more information.
URL:https://uvago.org/event/david-baskeyfield-eccles-recital/
LOCATION:Cathedral of the Madeleine\, 331 E. South Temple\, Salt Lake City\, UT\, United States
CATEGORIES:Community Events & Recitals
ATTACH;FMTTYPE=image/jpeg:https://uvago.org/wordpress/wp-content/uploads/2017/09/David-Baskeyfield.jpg
END:VEVENT
END:VCALENDAR