BEGIN:VCALENDAR
VERSION:2.0
PRODID:-//UVAGO - ECPv5.3.1.1//NONSGML v1.0//EN
CALSCALE:GREGORIAN
METHOD:PUBLISH
X-WR-CALNAME:UVAGO
X-ORIGINAL-URL:https://uvago.org
X-WR-CALDESC:Events for UVAGO
BEGIN:VTIMEZONE
TZID:America/Denver
BEGIN:DAYLIGHT
TZOFFSETFROM:-0700
TZOFFSETTO:-0600
TZNAME:MDT
DTSTART:20160313T090000
END:DAYLIGHT
BEGIN:STANDARD
TZOFFSETFROM:-0600
TZOFFSETTO:-0700
TZNAME:MST
DTSTART:20161106T080000
END:STANDARD
END:VTIMEZONE
BEGIN:VEVENT
DTSTART;TZID=America/Denver:20160320T190000
DTEND;TZID=America/Denver:20160320T210000
DTSTAMP:20260423T012700
CREATED:20160314T011638Z
LAST-MODIFIED:20160314T011638Z
UID:3959-1458500400-1458507600@uvago.org
SUMMARY:David Chamberlin All Bach Recital
DESCRIPTION:David Chamberlin All Bach Recital\, March 20\, 7:00 PM\, Zion Evangelical Lutheran Church\, SLC
URL:https://uvago.org/event/david-chamberlin-all-bach-recital/
LOCATION:Zion Evangelical Lutheran Church\, 1070 Foothill Drive\, Salt Lake City\, UT\, 84108\, United States
CATEGORIES:Community Events & Recitals
END:VEVENT
END:VCALENDAR