BEGIN:VCALENDAR
VERSION:2.0
PRODID:-//UVAGO - ECPv5.3.1.1//NONSGML v1.0//EN
CALSCALE:GREGORIAN
METHOD:PUBLISH
X-WR-CALNAME:UVAGO
X-ORIGINAL-URL:https://uvago.org
X-WR-CALDESC:Events for UVAGO
BEGIN:VTIMEZONE
TZID:America/Denver
BEGIN:DAYLIGHT
TZOFFSETFROM:-0700
TZOFFSETTO:-0600
TZNAME:MDT
DTSTART:20180311T090000
END:DAYLIGHT
BEGIN:STANDARD
TZOFFSETFROM:-0600
TZOFFSETTO:-0700
TZNAME:MST
DTSTART:20181104T080000
END:STANDARD
END:VTIMEZONE
BEGIN:VEVENT
DTSTART;TZID=America/Denver:20180211T200000
DTEND;TZID=America/Denver:20180211T210000
DTSTAMP:20260422T143335
CREATED:20170916T085130Z
LAST-MODIFIED:20170916T085130Z
UID:4693-1518379200-1518382800@uvago.org
SUMMARY:Dexter Kennedy\, Eccles Recital
DESCRIPTION:Dexter Kennedy\, Eccles Recital\nFebruary 11\, 2018\nCathedral of the Madeleine 8 pm \nAs the winner of the Grand Prix d’Interprétation at the 24th Concours International d’Orgue de Chartres\, Dexter Kennedy has established himself internationally as “one of the greatest organists of our times” (Iceland Monitor). Praised for his “prodigious technique and grand style musicality” in The American Organist\, his concert programs present performances that are fiery\, spontaneous\, and historically informed\, exciting both music connoisseurs as well as people who have never experienced the organ in concert setting. In addition to concertizing\, Dexter Kennedy currently serves on the music faculty of the College of Wooster as Instructor of Organ and Harpsichord.\nMr. Kennedy is an active recitalist throughout both Europe and North America\, having performed in great cathedrals\, churches\, and concert halls. \nClick here for more information.
URL:https://uvago.org/event/dexter-kennedy-eccles-recital/
LOCATION:Cathedral of the Madeleine\, 331 E. South Temple\, Salt Lake City\, UT\, United States
CATEGORIES:Community Events & Recitals
ATTACH;FMTTYPE=image/jpeg:https://uvago.org/wordpress/wp-content/uploads/2017/09/dexter-kennedy.jpg
END:VEVENT
END:VCALENDAR