BEGIN:VCALENDAR
VERSION:2.0
PRODID:-//UVAGO - ECPv5.3.1.1//NONSGML v1.0//EN
CALSCALE:GREGORIAN
METHOD:PUBLISH
X-WR-CALNAME:UVAGO
X-ORIGINAL-URL:https://uvago.org
X-WR-CALDESC:Events for UVAGO
BEGIN:VTIMEZONE
TZID:America/Denver
BEGIN:DAYLIGHT
TZOFFSETFROM:-0700
TZOFFSETTO:-0600
TZNAME:MDT
DTSTART:20140309T090000
END:DAYLIGHT
BEGIN:STANDARD
TZOFFSETFROM:-0600
TZOFFSETTO:-0700
TZNAME:MST
DTSTART:20141102T080000
END:STANDARD
END:VTIMEZONE
BEGIN:VEVENT
DTSTART;TZID=America/Denver:20141109T200000
DTEND;TZID=America/Denver:20141109T200000
DTSTAMP:20260423T070248
CREATED:20140904T060031Z
LAST-MODIFIED:20141108T024142Z
UID:702-1415563200-1415563200@uvago.org
SUMMARY:CANCELLED - Eccles Organ Festival - Ghislain Leroy\, organ & Romain Leleu\, trumpet
DESCRIPTION:Ghislain Leroy\, organ & Romain Leleu\, trumpet (Cathedral of Notre Dame de la Treille\, Lille\, France)
URL:https://uvago.org/event/eccles-organ-festival-3/
LOCATION:Cathedral of the Madeleine\, 331 E. South Temple\, Salt Lake City\, UT\, United States
CATEGORIES:Community Events & Recitals
ATTACH;FMTTYPE=image/jpeg:https://uvago.org/wordpress/wp-content/uploads/2014/09/leleu-leroy.jpg
END:VEVENT
END:VCALENDAR