BEGIN:VCALENDAR
VERSION:2.0
PRODID:-//UVAGO - ECPv5.3.1.1//NONSGML v1.0//EN
CALSCALE:GREGORIAN
METHOD:PUBLISH
X-WR-CALNAME:UVAGO
X-ORIGINAL-URL:https://uvago.org
X-WR-CALDESC:Events for UVAGO
BEGIN:VTIMEZONE
TZID:America/Denver
BEGIN:DAYLIGHT
TZOFFSETFROM:-0700
TZOFFSETTO:-0600
TZNAME:MDT
DTSTART:20150308T090000
END:DAYLIGHT
BEGIN:STANDARD
TZOFFSETFROM:-0600
TZOFFSETTO:-0700
TZNAME:MST
DTSTART:20151101T080000
END:STANDARD
END:VTIMEZONE
BEGIN:VEVENT
DTSTART;TZID=America/Denver:20150208T200000
DTEND;TZID=America/Denver:20150208T200000
DTSTAMP:20260423T070342
CREATED:20140904T060828Z
LAST-MODIFIED:20141005T112411Z
UID:708-1423425600-1423425600@uvago.org
SUMMARY:Eccles Organ Festival - Vincent Dubois\, organist
DESCRIPTION:Vincent Dubois (Strasbourg Conservatory\, France) 
URL:https://uvago.org/event/eccles-organ-festival-5/
LOCATION:Cathedral of the Madeleine\, 331 E. South Temple\, Salt Lake City\, UT\, United States
CATEGORIES:Community Events & Recitals
ATTACH;FMTTYPE=image/jpeg:https://uvago.org/wordpress/wp-content/uploads/2014/09/VincentDubois.jpg
END:VEVENT
END:VCALENDAR