BEGIN:VCALENDAR
VERSION:2.0
PRODID:-//UVAGO - ECPv5.3.1.1//NONSGML v1.0//EN
CALSCALE:GREGORIAN
METHOD:PUBLISH
X-WR-CALNAME:UVAGO
X-ORIGINAL-URL:https://uvago.org
X-WR-CALDESC:Events for UVAGO
BEGIN:VTIMEZONE
TZID:America/Denver
BEGIN:DAYLIGHT
TZOFFSETFROM:-0700
TZOFFSETTO:-0600
TZNAME:MDT
DTSTART:20160313T090000
END:DAYLIGHT
BEGIN:STANDARD
TZOFFSETFROM:-0600
TZOFFSETTO:-0700
TZNAME:MST
DTSTART:20161106T080000
END:STANDARD
END:VTIMEZONE
BEGIN:VEVENT
DTSTART;TZID=America/Denver:20160911T200000
DTEND;TZID=America/Denver:20160911T200000
DTSTAMP:20260423T032215
CREATED:20160905T214455Z
LAST-MODIFIED:20160909T052307Z
UID:4198-1473624000-1473624000@uvago.org
SUMMARY:Eccles Organ Festival
DESCRIPTION:Juan Paradell Solè\, Titular Organist of the Sistina Pontifical Chapel Choir\, Vatican\, Rome. Click here for program information.
URL:https://uvago.org/event/eccles-organ-festival-6/
LOCATION:The Cathedral of the Madeleine\, 331 E South Temple\, Salt Lake City\, UT\, United States
END:VEVENT
END:VCALENDAR