BEGIN:VCALENDAR
VERSION:2.0
PRODID:-//UVAGO - ECPv5.3.1.1//NONSGML v1.0//EN
CALSCALE:GREGORIAN
METHOD:PUBLISH
X-WR-CALNAME:UVAGO
X-ORIGINAL-URL:https://uvago.org
X-WR-CALDESC:Events for UVAGO
BEGIN:VTIMEZONE
TZID:America/Denver
BEGIN:DAYLIGHT
TZOFFSETFROM:-0700
TZOFFSETTO:-0600
TZNAME:MDT
DTSTART:20150308T090000
END:DAYLIGHT
BEGIN:STANDARD
TZOFFSETFROM:-0600
TZOFFSETTO:-0700
TZNAME:MST
DTSTART:20151101T080000
END:STANDARD
END:VTIMEZONE
BEGIN:VEVENT
DTSTART;TZID=America/Denver:20151108T200000
DTEND;TZID=America/Denver:20151108T220000
DTSTAMP:20260423T031204
CREATED:20150905T152533Z
LAST-MODIFIED:20151108T055131Z
UID:3788-1447012800-1447020000@uvago.org
SUMMARY:Eccles Organ Festival - Christopher Houlihan
DESCRIPTION:November 8 – Christopher Houlihan\, Cathedral of the Madeleine\, 8 pm \nThe young American musician Christopher Houlihan is widely acknowledged as one of the brightest stars in the new generation of organists\, praised by the media as “gifted” (New York Times)\, “dazzling” (Wall Street Journal)\, and “eloquent” (Los Angeles Times). Still in his 20’s\, Houlihan’s international performing career is well underway\, having performed in celebrated venues in major cities across North America and Europe\, as well as at numerous conventions of the American Guild of Organists and the Organ Historical Society. Houlihan lives in New York City\, and is Artist-in-Residence at Trinity College\, Hartford\, Connecticut. \nSee more
URL:https://uvago.org/event/eccles-organ-festival-christopher-houlihan/
LOCATION:Cathedral of the Madeleine\, 331 E. South Temple\, Salt Lake City\, UT\, United States
CATEGORIES:Community Events & Recitals
ATTACH;FMTTYPE=image/jpeg:https://uvago.org/wordpress/wp-content/uploads/2015/09/christopher-houlihan-bio-11.jpg
END:VEVENT
END:VCALENDAR