BEGIN:VCALENDAR
VERSION:2.0
PRODID:-//UVAGO - ECPv5.3.1.1//NONSGML v1.0//EN
CALSCALE:GREGORIAN
METHOD:PUBLISH
X-WR-CALNAME:UVAGO
X-ORIGINAL-URL:https://uvago.org
X-WR-CALDESC:Events for UVAGO
BEGIN:VTIMEZONE
TZID:America/Denver
BEGIN:DAYLIGHT
TZOFFSETFROM:-0700
TZOFFSETTO:-0600
TZNAME:MDT
DTSTART:20160313T090000
END:DAYLIGHT
BEGIN:STANDARD
TZOFFSETFROM:-0600
TZOFFSETTO:-0700
TZNAME:MST
DTSTART:20161106T080000
END:STANDARD
END:VTIMEZONE
BEGIN:VEVENT
DTSTART;TZID=America/Denver:20160214T200000
DTEND;TZID=America/Denver:20160214T220000
DTSTAMP:20260423T031843
CREATED:20150922T233554Z
LAST-MODIFIED:20151108T063520Z
UID:3812-1455480000-1455487200@uvago.org
SUMMARY:Eccles Organ Festival - Daniel Roth
DESCRIPTION:Sunday\, February 14 – Daniel Roth\, Cathedral of the Madeleine\, Salt Lake City\, 8:00 pm\n\n\n\nDaniel Roth\, widely acclaimed as one of the leading French organ virtuosos\, has held several prestigious positions both as performer and teacher. In 1985 he was appointed titular organist at St-Sulpice\, the famous Paris church where is predecessors were Charles-Marie Widor\, Marcel Dupré and Jean-Jacques Grunenwald. A former student at the Paris Conservatory\, Daniel Roth’s teachers have included Marie-Claire Alain and Maurice Durufé. He has won several competitions\, among them the Grand Prix de Chartres 1971\, interpretation and improvisation.After teaching positions at the Conservatories of Marseille\, Strasbourg and the Saarbrücken Musikhochschule\, he has been Professor of organ at the Musikhochschule in Frankfurt am Main where he is successor to Edgar Krapp and Helmut Walcha from 1995 to 2007. \n\n\nSee more
URL:https://uvago.org/event/eccles-organ-festival-daniel-roth/
CATEGORIES:Community Events & Recitals
ATTACH;FMTTYPE=image/jpeg:https://uvago.org/wordpress/wp-content/uploads/2015/09/Daniel-Roth.jpg
END:VEVENT
END:VCALENDAR