BEGIN:VCALENDAR
VERSION:2.0
PRODID:-//UVAGO - ECPv5.3.1.1//NONSGML v1.0//EN
CALSCALE:GREGORIAN
METHOD:PUBLISH
X-WR-CALNAME:UVAGO
X-ORIGINAL-URL:https://uvago.org
X-WR-CALDESC:Events for UVAGO
BEGIN:VTIMEZONE
TZID:America/Denver
BEGIN:DAYLIGHT
TZOFFSETFROM:-0700
TZOFFSETTO:-0600
TZNAME:MDT
DTSTART:20150308T090000
END:DAYLIGHT
BEGIN:STANDARD
TZOFFSETFROM:-0600
TZOFFSETTO:-0700
TZNAME:MST
DTSTART:20151101T080000
END:STANDARD
END:VTIMEZONE
BEGIN:VEVENT
DTSTART;TZID=America/Denver:20150913T200000
DTEND;TZID=America/Denver:20150913T200000
DTSTAMP:20260423T045543
CREATED:20150905T144959Z
LAST-MODIFIED:20150905T144959Z
UID:3774-1442174400-1442174400@uvago.org
SUMMARY:Eccles Organ Festival - Gabriele Terrone
DESCRIPTION:Gabriele Terrone\, Cathedral of the Madeleine\, SLC\, September 13\, 8 pm \nGabriele Terrone of Rome\, Italy\, is the Organist and Assistant Director of Music at the Cathedral of the Madeleine in Salt Lake City\, Utah. He also serves on the faculty of the Madeleine Choir School and is the Director of the Eccles Organ Festival. \nDr. Terrone obtained the Diploma in Organ and Composition from the Italian State Conservatory. Afterwards\, he completed a postgraduate program in organ improvisation at the Pontifical Institute for Sacred Music in Rome and the Hochschüle für Musik in Luzern (Switzerland). GabrieleTerrone served from 2011 to 2014 as the Titular Organist at the Papal Basilica of Santa Maria Maggiore in Rome and holds a Ph.D. in Mathematics from the University of Padova\, Italy. \nTo see program\, click here.
URL:https://uvago.org/event/eccles-organ-festival-gabriele-terrone/
LOCATION:Cathedral of the Madeleine\, 331 E. South Temple\, Salt Lake City\, UT\, United States
CATEGORIES:Community Events & Recitals
ATTACH;FMTTYPE=image/jpeg:https://uvago.org/wordpress/wp-content/uploads/2015/09/Gabriele-Terrone2.jpg
END:VEVENT
END:VCALENDAR