BEGIN:VCALENDAR
VERSION:2.0
PRODID:-//UVAGO - ECPv5.3.1.1//NONSGML v1.0//EN
CALSCALE:GREGORIAN
METHOD:PUBLISH
X-WR-CALNAME:UVAGO
X-ORIGINAL-URL:https://uvago.org
X-WR-CALDESC:Events for UVAGO
BEGIN:VTIMEZONE
TZID:America/Denver
BEGIN:DAYLIGHT
TZOFFSETFROM:-0700
TZOFFSETTO:-0600
TZNAME:MDT
DTSTART:20220313T090000
END:DAYLIGHT
BEGIN:STANDARD
TZOFFSETFROM:-0600
TZOFFSETTO:-0700
TZNAME:MST
DTSTART:20221106T080000
END:STANDARD
END:VTIMEZONE
BEGIN:VEVENT
DTSTART;TZID=America/Denver:20221016T200000
DTEND;TZID=America/Denver:20221016T210000
DTSTAMP:20260420T012217
CREATED:20221002T064151Z
LAST-MODIFIED:20221002T064151Z
UID:6555-1665950400-1665954000@uvago.org
SUMMARY:Eccles Organ Festival Recital\, featuring Simon Johnson
DESCRIPTION:The 29th Season of the Eccles Organ Festival continues Sunday\, October 16\, 2022 at 8:00 PM at the Cathedral of the Madeleine with a recital by Simon Johnson. \nSimon Johnson is one of the most versatile musicians of his generation\, successfully combining life as a virtuoso organist with extensive work in choral direction\, composition and arrangement. \nIn September 2021 Simon Johnson became Master of Music at Westminster Cathedral\, responsible for its world-famous choir. For 13 years he was the Organist and Assistant Director of Music at St Paul’s Cathedral\, and was involved in all the national occasions that took place there. Previously he enjoyed a distinguished tenure as Director of St Albans Abbey Girls’ Choir\, leading them in several highly-acclaimed recordings and tours. \nRecitals have taken him all over the USA and Europe\, including a Royal Festival Hall debut in 2017. In 2018\, St Paul’s was sold out for his performance of Holst’s The Planets with link-ups to NASA and the International Space Station. \nSimon Johnson’s recital program will feature works by Bach\, Franck\, Ravel and Liszt. \nClick Here for Program\, Notes and Bio
URL:https://uvago.org/event/eccles-organ-festival-recital-featuring-simon-johnson/
LOCATION:Cathedral of the Madeleine\, 331 E. South Temple\, Salt Lake City\, UT\, United States
CATEGORIES:Community Events & Recitals
ATTACH;FMTTYPE=image/jpeg:https://uvago.org/wordpress/wp-content/uploads/2022/10/2022-10-16-Simon-Johnson-Eccles-Recital.jpg
END:VEVENT
END:VCALENDAR