BEGIN:VCALENDAR
VERSION:2.0
PRODID:-//UVAGO - ECPv5.3.1.1//NONSGML v1.0//EN
CALSCALE:GREGORIAN
METHOD:PUBLISH
X-WR-CALNAME:UVAGO
X-ORIGINAL-URL:https://uvago.org
X-WR-CALDESC:Events for UVAGO
BEGIN:VTIMEZONE
TZID:America/Denver
BEGIN:DAYLIGHT
TZOFFSETFROM:-0700
TZOFFSETTO:-0600
TZNAME:MDT
DTSTART:20220313T090000
END:DAYLIGHT
BEGIN:STANDARD
TZOFFSETFROM:-0600
TZOFFSETTO:-0700
TZNAME:MST
DTSTART:20221106T080000
END:STANDARD
END:VTIMEZONE
BEGIN:VEVENT
DTSTART;TZID=America/Denver:20220522T200000
DTEND;TZID=America/Denver:20220522T210000
DTSTAMP:20260419T212223
CREATED:20220505T063849Z
LAST-MODIFIED:20220505T063849Z
UID:6531-1653249600-1653253200@uvago.org
SUMMARY:Eccles Organ Festival - The Complete Organ Works of César Franck
DESCRIPTION:In celebration of the 200th birth anniversary of César Franck\, Cathedral of the Madeleine Organist Gabriele Terrone will perform the composer’s Complete Organ Works in two special recitals. on May 1 and May 22\, 2022 at 8:00 PM. \nPart II\nSunday 22 May 2022 at 8:00 PM \nChoral No. 3\nFantaisie in C\, Op. 16\nChoral No. 2\nFantaisie in A\nPrélude\, fugue et variation\, Op. 18\nFinal\, Op. 21 \nThe 28th Season Replay! Did you miss a performance or want to enjoy it again? Click the Eccles Festival button below to watch on YouTube. \nEccles Festival
URL:https://uvago.org/event/eccles-organ-festival-the-complete-organ-works-of-cesar-franck/
LOCATION:Cathedral of the Madeleine\, 331 E. South Temple\, Salt Lake City\, UT\, United States
CATEGORIES:Community Events & Recitals
END:VEVENT
END:VCALENDAR