BEGIN:VCALENDAR
VERSION:2.0
PRODID:-//UVAGO - ECPv5.3.1.1//NONSGML v1.0//EN
CALSCALE:GREGORIAN
METHOD:PUBLISH
X-WR-CALNAME:UVAGO
X-ORIGINAL-URL:https://uvago.org
X-WR-CALDESC:Events for UVAGO
BEGIN:VTIMEZONE
TZID:America/Denver
BEGIN:DAYLIGHT
TZOFFSETFROM:-0700
TZOFFSETTO:-0600
TZNAME:MDT
DTSTART:20160313T090000
END:DAYLIGHT
BEGIN:STANDARD
TZOFFSETFROM:-0600
TZOFFSETTO:-0700
TZNAME:MST
DTSTART:20161106T080000
END:STANDARD
END:VTIMEZONE
BEGIN:VEVENT
DTSTART;TZID=America/Denver:20160117T200000
DTEND;TZID=America/Denver:20160117T220000
DTSTAMP:20260423T031157
CREATED:20150922T232528Z
LAST-MODIFIED:20151108T063330Z
UID:3810-1453060800-1453068000@uvago.org
SUMMARY:Eccles Organ Festival - Thierry Escaich
DESCRIPTION:Sunday\, January 17 – Thierry Escaich\, Cathedral of the Madeleine\, Salt Lake City\, 8:00 pm\n\n\nCelebrated concert organist and composer Thierry Escaich is organist of St-Etienne-du-Mont in Paris and Professor of Music at the Paris Conservatoire.\n\n\nSee more
URL:https://uvago.org/event/eccles-organ-festival-thierry-escaich/
CATEGORIES:Community Events & Recitals
ATTACH;FMTTYPE=image/jpeg:https://uvago.org/wordpress/wp-content/uploads/2015/09/Thierry-Escaich.jpg
END:VEVENT
END:VCALENDAR