BEGIN:VCALENDAR
VERSION:2.0
PRODID:-//UVAGO - ECPv5.3.1.1//NONSGML v1.0//EN
CALSCALE:GREGORIAN
METHOD:PUBLISH
X-WR-CALNAME:UVAGO
X-ORIGINAL-URL:https://uvago.org
X-WR-CALDESC:Events for UVAGO
BEGIN:VTIMEZONE
TZID:America/Denver
BEGIN:DAYLIGHT
TZOFFSETFROM:-0700
TZOFFSETTO:-0600
TZNAME:MDT
DTSTART:20140309T090000
END:DAYLIGHT
BEGIN:STANDARD
TZOFFSETFROM:-0600
TZOFFSETTO:-0700
TZNAME:MST
DTSTART:20141102T080000
END:STANDARD
END:VTIMEZONE
BEGIN:VEVENT
DTSTART;TZID=America/Denver:20140914T200000
DTEND;TZID=America/Denver:20140914T200000
DTSTAMP:20260423T091149
CREATED:20140904T053614Z
LAST-MODIFIED:20140911T010659Z
UID:695-1410724800-1410724800@uvago.org
SUMMARY:Eccles Organ Festival - Homage to Douglas Bush
DESCRIPTION:Robert August & Andrew Lloyd – Homage to Douglas Bush (First Presbyterian Church\, Forth\nWorth\, TX / First United Methodist Church)
URL:https://uvago.org/event/eccles-organ-festival/
LOCATION:Cathedral of the Madeleine\, 331 E. South Temple\, Salt Lake City\, UT\, United States
CATEGORIES:Community Events & Recitals
ATTACH;FMTTYPE=image/jpeg:https://uvago.org/wordpress/wp-content/uploads/2014/08/doug-bush.jpeg
END:VEVENT
END:VCALENDAR