BEGIN:VCALENDAR
VERSION:2.0
PRODID:-//UVAGO - ECPv5.3.1.1//NONSGML v1.0//EN
CALSCALE:GREGORIAN
METHOD:PUBLISH
X-WR-CALNAME:UVAGO
X-ORIGINAL-URL:https://uvago.org
X-WR-CALDESC:Events for UVAGO
BEGIN:VTIMEZONE
TZID:America/Denver
BEGIN:DAYLIGHT
TZOFFSETFROM:-0700
TZOFFSETTO:-0600
TZNAME:MDT
DTSTART:20150308T090000
END:DAYLIGHT
BEGIN:STANDARD
TZOFFSETFROM:-0600
TZOFFSETTO:-0700
TZNAME:MST
DTSTART:20151101T080000
END:STANDARD
END:VTIMEZONE
BEGIN:VEVENT
DTSTART;TZID=America/Denver:20150307T100000
DTEND;TZID=America/Denver:20150307T120000
DTSTAMP:20260423T070052
CREATED:20150202T115430Z
LAST-MODIFIED:20150202T115430Z
UID:3306-1425722400-1425729600@uvago.org
SUMMARY:"God So Loved the World\," lecture by Eric Huntsman
DESCRIPTION:On Saturday\, March 7th\, from 10 to noon\, there will be a lecture by BYU professor and Tabernacle Choir member Eric Huntsman at Day Murray Music in Murray\, Utah.  He will be discussing Easter through the scriptures and music\, and has titled his lecture “God So Loved the World.”
URL:https://uvago.org/event/god-so-loved-the-world-lecture-by-eric-huntsman/
LOCATION:Day Murray Music\, 4914 South State Street\, Murray\, UT
CATEGORIES:Community Events & Recitals
END:VEVENT
END:VCALENDAR