BEGIN:VCALENDAR
VERSION:2.0
PRODID:-//UVAGO - ECPv5.3.1.1//NONSGML v1.0//EN
CALSCALE:GREGORIAN
METHOD:PUBLISH
X-WR-CALNAME:UVAGO
X-ORIGINAL-URL:https://uvago.org
X-WR-CALDESC:Events for UVAGO
BEGIN:VTIMEZONE
TZID:America/Denver
BEGIN:DAYLIGHT
TZOFFSETFROM:-0700
TZOFFSETTO:-0600
TZNAME:MDT
DTSTART:20160313T090000
END:DAYLIGHT
BEGIN:STANDARD
TZOFFSETFROM:-0600
TZOFFSETTO:-0700
TZNAME:MST
DTSTART:20161106T080000
END:STANDARD
END:VTIMEZONE
BEGIN:VEVENT
DTSTART;TZID=America/Denver:20161118T190000
DTEND;TZID=America/Denver:20161118T190000
DTSTAMP:20260423T034129
CREATED:20161006T010919Z
LAST-MODIFIED:20161013T000444Z
UID:4257-1479495600-1479495600@uvago.org
SUMMARY:Holiday Member Recital
DESCRIPTION:Friday\, November 18\, 2016\, at 7:00 PM. Pleasant Grove East Stake Center\, 825 Loader\, Pleasant Grove. \nFor our November activity\, again at the Pleasant Grove East Stake Center\, members will have the opportunity to share holiday repertoire in a different way—by performing it! Share with us your favorite pieces. Take the chance to have a “trial run” of a piece you’re planning to use this holiday season. Performers and listeners alike will get a jumpstart on the holiday spirit. Bring your family and friends\, too\, so that we can spread as much holiday spirit as possible. \nIf you would like to perform\, please contact Sheri Peterson at sheri.peterson@gmail.com as soon as possible. \nPleasant Grove East Stake Center\n825 Loader\, Pleasant Grove \n1)      From 1-15 take Pleasant Grove Blvd off ramp ( Exit 275 )\n2)      Turn onto  Pleasant Grove Blvd going towards the mountains\n3)      Go over freeway and proceed short distance to North County Rd/or W 700 N\n4)      Turn right on W 700 N (there is a Large Central Bank on the cormer)\n5)      Proceed several miles on W 700 N and cross state street which becomes 1000 S (Arctic Circle on the corner)\n6)      Continue on 1000 S. This dead ends at Locust.\n7)      Turn left on Locust and go about 1 block and turn right on 900 S\n8)      Go up the hill less than a mile and turn left on Loader.\n9)      Church is immediately on your right. \nNote: For those taking State Street from Orem. Go through Lindon and then turn right on 1000 South (Arctic Circle on corner) \, then continue as indicated on #6-#9 above. \nThis part of Pleasant Grove boarders Lindon.
URL:https://uvago.org/event/holiday-member-recital/
LOCATION:Pleasant Grove East Stake Center\, 825 Loader\, Pleasant Grove\, Utah 
CATEGORIES:Chapter Activities
END:VEVENT
END:VCALENDAR