BEGIN:VCALENDAR
VERSION:2.0
PRODID:-//UVAGO - ECPv5.3.1.1//NONSGML v1.0//EN
CALSCALE:GREGORIAN
METHOD:PUBLISH
X-WR-CALNAME:UVAGO
X-ORIGINAL-URL:https://uvago.org
X-WR-CALDESC:Events for UVAGO
BEGIN:VTIMEZONE
TZID:America/Denver
BEGIN:DAYLIGHT
TZOFFSETFROM:-0700
TZOFFSETTO:-0600
TZNAME:MDT
DTSTART:20180311T090000
END:DAYLIGHT
BEGIN:STANDARD
TZOFFSETFROM:-0600
TZOFFSETTO:-0700
TZNAME:MST
DTSTART:20181104T080000
END:STANDARD
END:VTIMEZONE
BEGIN:VEVENT
DTSTART;TZID=America/Denver:20180921T190000
DTEND;TZID=America/Denver:20180921T210000
DTSTAMP:20260422T164243
CREATED:20180904T230437Z
LAST-MODIFIED:20180904T230437Z
UID:4941-1537556400-1537563600@uvago.org
SUMMARY:Hymn Sing by Lella Pomeroy and Ann Moyle
DESCRIPTION:Friday\, September 21\n7:00 p.m.\nLDS Meetinghouse\, 2557 Dalton Drive\, Springville \nThe program will include organ solos\, as well as hymns for the congregation to sing in an uplifting style. The program is designed to be inspirational to those who play the organ or like to sing in church. This is the fourth in a series of organ events in the Kolob Stake over the past year
URL:https://uvago.org/event/hymn-sing-by-lella-pomeroy-and-ann-moyle/
LOCATION:LDS Meetinghouse\, 2557 Dalton Drive\, Springville\, UT
ATTACH;FMTTYPE=image/jpeg:https://uvago.org/wordpress/wp-content/uploads/2017/09/Lella-Pomeroy.jpg
END:VEVENT
END:VCALENDAR