BEGIN:VCALENDAR
VERSION:2.0
PRODID:-//UVAGO - ECPv5.3.1.1//NONSGML v1.0//EN
CALSCALE:GREGORIAN
METHOD:PUBLISH
X-WR-CALNAME:UVAGO
X-ORIGINAL-URL:https://uvago.org
X-WR-CALDESC:Events for UVAGO
BEGIN:VTIMEZONE
TZID:America/Denver
BEGIN:DAYLIGHT
TZOFFSETFROM:-0700
TZOFFSETTO:-0600
TZNAME:MDT
DTSTART:20140309T090000
END:DAYLIGHT
BEGIN:STANDARD
TZOFFSETFROM:-0600
TZOFFSETTO:-0700
TZNAME:MST
DTSTART:20141102T080000
END:STANDARD
END:VTIMEZONE
BEGIN:VEVENT
DTSTART;TZID=America/Denver:20140930T173000
DTEND;TZID=America/Denver:20140930T173000
DTSTAMP:20260423T091725
CREATED:20140923T092719Z
LAST-MODIFIED:20140923T092719Z
UID:1465-1412098200-1412098200@uvago.org
SUMMARY:Hymn Sing:  The role of music in worship
DESCRIPTION:  \nPresented by Ruth Ann Hay \n \n 
URL:https://uvago.org/event/hymn-sing-the-role-of-music-in-worship/
LOCATION:BYU Harold B. Lee Library\, 4420 HBLL\, Provo\, UT\, United States
END:VEVENT
END:VCALENDAR