BEGIN:VCALENDAR
VERSION:2.0
PRODID:-//UVAGO - ECPv5.3.1.1//NONSGML v1.0//EN
CALSCALE:GREGORIAN
METHOD:PUBLISH
X-WR-CALNAME:UVAGO
X-ORIGINAL-URL:https://uvago.org
X-WR-CALDESC:Events for UVAGO
BEGIN:VTIMEZONE
TZID:America/Denver
BEGIN:DAYLIGHT
TZOFFSETFROM:-0700
TZOFFSETTO:-0600
TZNAME:MDT
DTSTART:20180311T090000
END:DAYLIGHT
BEGIN:STANDARD
TZOFFSETFROM:-0600
TZOFFSETTO:-0700
TZNAME:MST
DTSTART:20181104T080000
END:STANDARD
END:VTIMEZONE
BEGIN:VEVENT
DTSTART;TZID=America/Denver:20181207T190000
DTEND;TZID=America/Denver:20181207T210000
DTSTAMP:20260422T164222
CREATED:20180920T221035Z
LAST-MODIFIED:20181025T205145Z
UID:4970-1544209200-1544216400@uvago.org
SUMMARY:Informal "Christmas Music" Recital
DESCRIPTION:The December informal will be on Friday\, Dec 7 at the Provo Sunset Stake Center (1560 S. 1100 W.\, Provo) at 7:00 pm\, hosted by Blaine Olson.
URL:https://uvago.org/event/informal-christmas-music/
LOCATION:Provo Sunset Stake Center\, 1560 S. 1100 W.\, Provo\, UT
CATEGORIES:Chapter Activities
ATTACH;FMTTYPE=image/jpeg:https://uvago.org/wordpress/wp-content/uploads/2018/09/2018-12-07-Christmas-informal.jpg
END:VEVENT
END:VCALENDAR