BEGIN:VCALENDAR
VERSION:2.0
PRODID:-//UVAGO - ECPv5.3.1.1//NONSGML v1.0//EN
CALSCALE:GREGORIAN
METHOD:PUBLISH
X-WR-CALNAME:UVAGO
X-ORIGINAL-URL:https://uvago.org
X-WR-CALDESC:Events for UVAGO
BEGIN:VTIMEZONE
TZID:America/Denver
BEGIN:DAYLIGHT
TZOFFSETFROM:-0700
TZOFFSETTO:-0600
TZNAME:MDT
DTSTART:20240310T090000
END:DAYLIGHT
BEGIN:STANDARD
TZOFFSETFROM:-0600
TZOFFSETTO:-0700
TZNAME:MST
DTSTART:20241103T080000
END:STANDARD
END:VTIMEZONE
BEGIN:VEVENT
DTSTART;TZID=America/Denver:20240601T120000
DTEND;TZID=America/Denver:20240601T130000
DTSTAMP:20260419T161642
CREATED:20240518T064139Z
LAST-MODIFIED:20240518T064139Z
UID:7469-1717243200-1717246800@uvago.org
SUMMARY:James Welch: Conference Center Recital
DESCRIPTION:On Saturday\, June 1\, at noon\, James Welch will be giving a recital at the Conference Center\, Temple Square\, Salt Lake City. This will be a program of concert arrangements of well-known hymns\, including “Amazing Grace\,” “Come\, Thou Fount of Every Blessing\,” “Simple Gifts\,” “How Great Thou Art\,” “Count Your Blessings\,” “Come\, Come\, Ye Saints\,” and “Christ the Lord is Risen Today.”
URL:https://uvago.org/event/james-welch-conference-center-recital/
LOCATION:Conference Center\, Temple Square\, Salt Lake City\, UT
CATEGORIES:Community Events & Recitals
END:VEVENT
END:VCALENDAR