BEGIN:VCALENDAR
VERSION:2.0
PRODID:-//UVAGO - ECPv5.3.1.1//NONSGML v1.0//EN
CALSCALE:GREGORIAN
METHOD:PUBLISH
X-WR-CALNAME:UVAGO
X-ORIGINAL-URL:https://uvago.org
X-WR-CALDESC:Events for UVAGO
BEGIN:VTIMEZONE
TZID:America/Denver
BEGIN:DAYLIGHT
TZOFFSETFROM:-0700
TZOFFSETTO:-0600
TZNAME:MDT
DTSTART:20220313T090000
END:DAYLIGHT
BEGIN:STANDARD
TZOFFSETFROM:-0600
TZOFFSETTO:-0700
TZNAME:MST
DTSTART:20221106T080000
END:STANDARD
END:VTIMEZONE
BEGIN:VEVENT
DTSTART;TZID=America/Denver:20220515T150000
DTEND;TZID=America/Denver:20220515T160000
DTSTAMP:20260419T144801
CREATED:20220505T062120Z
LAST-MODIFIED:20220505T062305Z
UID:6524-1652626800-1652630400@uvago.org
SUMMARY:James Welch Organ Recital "Bach to the Future"
DESCRIPTION:May 15 (Sunday\, 3:00 p.m.) “Bach to the Future”\nThis concert will be performed at St. Mary’s Episcopal Church\, 50 West 200 North\, Provo\, on the unique mechanical organ built in 1967 by the Dutch firm of G. A. C. de Graaf—the only organ of its kind in Utah Valley. The program will include music of Bach\, C. P. E. Bach\, Haydn\, Mozart\, Balbastre\, Galuppi\, and John Philip Sousa. Joining on the program will be pianist Ariel Wong. Together they will perform the Concerto in C major for two keyboard instruments by Antonio Soler\, and the O. K. Chorale by P. D. Q. Bach.
URL:https://uvago.org/event/james-welch-organ-recital-bach-to-the-future/
LOCATION:St. Mary’s Episcopal Church\, 50 West 200 North\, Provo\, UT
CATEGORIES:Community Events & Recitals
ATTACH;FMTTYPE=image/jpeg:https://uvago.org/wordpress/wp-content/uploads/2022/05/2022-05-15-St.-Marys-scaled.jpg
END:VEVENT
END:VCALENDAR