BEGIN:VCALENDAR
VERSION:2.0
PRODID:-//UVAGO - ECPv5.3.1.1//NONSGML v1.0//EN
CALSCALE:GREGORIAN
METHOD:PUBLISH
X-WR-CALNAME:UVAGO
X-ORIGINAL-URL:https://uvago.org
X-WR-CALDESC:Events for UVAGO
BEGIN:VTIMEZONE
TZID:America/Denver
BEGIN:DAYLIGHT
TZOFFSETFROM:-0700
TZOFFSETTO:-0600
TZNAME:MDT
DTSTART:20220313T090000
END:DAYLIGHT
BEGIN:STANDARD
TZOFFSETFROM:-0600
TZOFFSETTO:-0700
TZNAME:MST
DTSTART:20221106T080000
END:STANDARD
END:VTIMEZONE
BEGIN:VEVENT
DTSTART;TZID=America/Denver:20220506T193000
DTEND;TZID=America/Denver:20220506T203000
DTSTAMP:20260419T110749
CREATED:20220505T061709Z
LAST-MODIFIED:20220505T061709Z
UID:6521-1651865400-1651869000@uvago.org
SUMMARY:James Welch Organ Recital
DESCRIPTION:May 6 (Friday\, 7:30 p.m.): A recital to celebrate the recent upgrades to the 1974 Wicks organ at Rock Canyon Ward\, 3050 Mojave Lane\, in Provo. Music by German\, French\, Portuguese\, Italian\, English\, Canadian\, and American composers. This concert will be live-streamed at https://youtu.be/cXCLxiQFWTc.
URL:https://uvago.org/event/james-welch-organ-recital/
LOCATION:Rock Canyon Chapel\, 3050 Mojave Lane\, Provo\, UT
CATEGORIES:Community Events & Recitals
ATTACH;FMTTYPE=image/jpeg:https://uvago.org/wordpress/wp-content/uploads/2022/03/2022-03-06-James-Welch.jpg
END:VEVENT
END:VCALENDAR