BEGIN:VCALENDAR
VERSION:2.0
PRODID:-//UVAGO - ECPv5.3.1.1//NONSGML v1.0//EN
CALSCALE:GREGORIAN
METHOD:PUBLISH
X-WR-CALNAME:UVAGO
X-ORIGINAL-URL:https://uvago.org
X-WR-CALDESC:Events for UVAGO
BEGIN:VTIMEZONE
TZID:America/Denver
BEGIN:DAYLIGHT
TZOFFSETFROM:-0700
TZOFFSETTO:-0600
TZNAME:MDT
DTSTART:20170312T090000
END:DAYLIGHT
BEGIN:STANDARD
TZOFFSETFROM:-0600
TZOFFSETTO:-0700
TZNAME:MST
DTSTART:20171105T080000
END:STANDARD
END:VTIMEZONE
BEGIN:VEVENT
DTSTART;TZID=America/Denver:20170429T133000
DTEND;TZID=America/Denver:20170429T140000
DTSTAMP:20260422T210522
CREATED:20170406T041752Z
LAST-MODIFIED:20170406T041752Z
UID:4537-1493472600-1493474400@uvago.org
SUMMARY:Jay Goodliffe Hymn Sing (part of Super Saturday)
DESCRIPTION:1:30-2:00 Closing Session\, Madsen Recital Hall\n( Please bring an LDS hymnal with you and sing along as Jay Goodliffe demonstrates creative hymn accompaniments).
URL:https://uvago.org/event/jay-goodliffe-hymn-sing-part-of-super-saturday/
LOCATION:Madsen Recital Hall\, Brigham Young University\, Provo\, UT\, United States
CATEGORIES:Community Events & Recitals
ATTACH;FMTTYPE=image/jpeg:https://uvago.org/wordpress/wp-content/uploads/2015/09/jay-goodliffe.jpg
END:VEVENT
END:VCALENDAR